{"text_format":"1","workbook":"xlsx","n_sheets":13,"sheets":["入力フォーム","3社保証書","3社保証書（なし）","3社保証書（分割）","２社保証書","２社保証書（なし）","２社保証書（分割）","発行依頼書","発行依頼書（なし）","発行依頼書（分割）","定型外保証書捺印依頼書","定型外保証書捺印依頼書（なし）","定型外保証書捺印依頼書（分割）"],"not_rendered":{"charts":0,"images":8,"macros":1,"external_links":0,"defined_names":13,"comments":0,"pivot_tables":0},"unopened":[],"bounds":{"document_bytes":16777216,"sheet_cells":100000,"rows_first":2000,"rows_last":500,"rows_between":2000,"halvings":0,"cell_chars":16384,"cell_head_chars":4096},"cells_cut":0,"cells_raw":0,"read":"whole","date_system":"1900"}

{"sheet":"入力フォーム","index":0,"n_rows":98,"n_cols":15,"rows_kept":98,"cut":false,"hidden":false,"merged":[[0,12,11,17],[12,12,15,17],[46,1,46,6],[46,7,46,8],[46,9,46,11],[22,1,22,5],[23,1,23,5],[24,1,24,5],[25,1,25,5],[29,1,29,11],[23,10,23,11],[24,10,24,11],[25,10,25,11],[26,10,26,11],[27,10,27,11],[32,3,32,5],[32,6,32,7],[32,8,32,9],[2,1,2,11],[1,0,1,11],[12,0,12,11],[8,0,8,11],[7,8,7,9],[7,10,7,11],[61,1,61,3],[38,1,38,6],[33,1,33,11],[35,7,35,8],[35,9,35,11],[31,1,31,6],[26,12,48,17],[21,10,21,11],[28,0,28,11],[32,1,32,2],[22,10,22,11],[47,9,47,11],[49,1,49,3],[50,1,50,3],[51,1,51,3],[52,1,52,3],[53,1,53,3],[57,1,57,3],[59,1,59,3],[55,1,55,3],[56,1,56,3],[48,0,48,11],[35,1,35,6],[58,1,58,3],[9,1,9,11],[3,10,3,11],[4,1,4,11],[6,1,6,11],[3,1,3,9],[5,2,5,11],[10,2,10,11],[11,1,11,6],[11,7,11,8],[11,9,11,11],[13,1,13,11],[26,1,26,5],[27,1,27,5],[18,1,18,5],[31,7,31,8],[31,9,31,11],[18,10,18,11],[19,10,19,11],[20,10,20,11],[15,7,15,8],[19,1,19,5],[20,1,20,5],[21,1,21,5],[15,1,15,6],[14,2,14,11],[30,2,30,11],[47,0,47,8],[38,7,38,8],[38,9,38,11],[42,1,42,11],[44,1,44,11],[34,2,34,11],[37,2,37,11],[41,2,41,11],[45,2,45,11],[36,1,36,11],[153,1,153,3],[154,1,154,3],[155,1,155,3],[144,1,144,3],[145,1,145,3],[146,1,146,3],[147,1,147,3],[148,1,148,3],[149,1,149,3],[150,1,150,3],[151,1,151,3],[152,1,152,3],[138,1,138,3],[139,1,139,3],[140,1,140,3],[141,1,141,3],[142,1,142,3],[143,1,143,3],[132,1,132,3],[133,1,133,3],[134,1,134,3],[135,1,135,3],[136,1,136,3],[137,1,137,3],[129,1,129,3],[130,1,130,3],[131,1,131,3],[120,1,120,3],[121,1,121,3],[122,1,122,3],[123,1,123,3],[124,1,124,3],[125,1,125,3],[126,1,126,3],[127,1,127,3],[128,1,128,3],[117,1,117,3],[118,1,118,3],[119,1,119,3],[0,0,0,11],[39,0,39,11],[40,1,40,11],[43,0,43,11],[16,0,16,11],[17,10,17,11],[17,1,17,5],[17,6,17,9],[108,1,108,3],[109,1,109,3],[110,1,110,3],[90,1,90,3],[91,1,91,3],[116,1,116,3],[107,1,107,3],[87,1,87,3],[88,1,88,3],[67,1,67,3],[68,1,68,3],[69,1,69,3],[63,1,63,3],[54,1,54,3],[60,1,60,3],[115,1,115,3],[96,1,96,3],[97,1,97,3],[98,1,98,3],[99,1,99,3],[100,1,100,3],[101,1,101,3],[92,1,92,3],[93,1,93,3],[94,1,94,3],[95,1,95,3],[111,1,111,3],[112,1,112,3],[113,1,113,3],[102,1,102,3],[103,1,103,3],[104,1,104,3],[105,1,105,3],[106,1,106,3],[64,1,64,3],[65,1,65,3],[62,1,62,3],[16,12,16,17],[17,12,24,17],[25,14,25,17],[15,9,15,11],[114,1,114,3],[89,1,89,3],[78,1,78,3],[70,1,70,3],[71,1,71,3],[79,1,79,3],[80,1,80,3],[81,1,81,3],[82,1,82,3],[83,1,83,3],[72,1,72,3],[73,1,73,3],[74,1,74,3],[75,1,75,3],[76,1,76,3],[77,1,77,3],[84,1,84,3],[85,1,85,3],[86,1,86,3],[66,1,66,3]]}
["防水工事保証書発行依頼書入力フォーム",null,null,null,null,null,null,null,null,null,null,null,"　※発行依頼書以外は、【両面印刷】設定願います。\n　※定型外の場合、定型外保証書捺印依頼書に記名捺印の上、\n　　提出ください。"]
["■対象建物情報【設計事務所以外は全て入力してください。】"]
["※"]
["保証書宛名"]
["工事名称"]
["所在地"]
["設計事務所【任意】"]
["保証開始日",null,null,"年",null,"月",null,"日","発行日(年月日)"]
["■工事請負業者情報【全て入力してください。】"]
["工事請負業者名"]
["所在地"]
["代表者名",null,null,null,null,null,null,"連絡先"]
["■防水工事施工業者情報【全て入力してください。】",null,null,null,null,null,null,null,null,null,null,null,"　\n　※保証書雛型は、保存すると同時に未入力状態で閉じます。"]
["防水工事施工業者名"]
["所在地"]
["代表者名",null,null,null,null,null,null,"連絡先"]
["■保証内容情報【全て入力してください。但し、面積不要の場合は面積・数量欄は入力不要です。】"]
["施工部位","工法・仕様名",null,null,null,null,"                 面積・数量",null,null,null,"保証年数",null,"　入力に関して【使用前に必ず御一読願います。】\n＊保証書宛名が長く、保証書側で読めない位に縮小される場合、\n　保証書宛名の上段 ※ 箇所から入力する二段表記で調整して\n　ください。二段表記でも読めない場合は、保証書側のセル(A4・\n　A5)に直接入力で調整してください。\n　依頼書にも転記されますので、入力フォームに入力した宛名\n　情報は消去しないでください。"]
[]
[]
[]
[]
[]
[]
[]
[null,null,null,null,null,null,null,null,null,null,null,null,"＊\n",null,"は、敬称・都道府県等が選択出来ます。"]
[null,null,null,null,null,null,null,null,null,null,null,null,"＊保証開始日は保証書に年月日が転記されますので、日が未入力\n　となる場合、保証書側のセルH9の数式バー内の2行目を全て\n　消去してください。\n＊【保証開始日】以外、発行日・依頼日等の日付入力欄は西暦\n　限定となります。例：令和3年1月15日入力⇒ 表記2021年1月15日\n＊工事請負業者等の情報は保証書類に転記されます。\n　保証書側でフォントやサイズ等調整してください。(セル結合・\n　解除は不可)　又、社判押印で対応される場合、転記を消去して\n　ください。\n＊面積・数量は小数点以下1桁での表示を標準としていますが、\n　\"桁数切替(1⇔2)\"で小数点以下2桁に切替えられます。\n＊面積を平場・立上りと分割表記する場合は、\n　G列で平場選択しH列に平場面積を入力、I列で立上り選択し\n　J列に立上り面積を入力してください。\n＊全面積表記の場合は、H列のみ入力してください。\n＊面積不要の場合は、G～J列は未入力としてください。\n＊面積・数量欄及び保証年数欄は、数値を入力する事で、\n　\"㎡\" 、 \"年\" が自動付記されます。　\n＊保証書等は、面積・数量欄の入力に応じた書式での印刷と\n　なります。(例：未入力 ⇒ 面積・数量欄がない書式）\n＊\"印刷へ\"クリック時、工法・仕様名欄の空白行の最初に\n　\"-以下余白-\"と入力されます。\n＊\"保存\"・\"消去\"・\"桁数切替(1⇔2)\"ボタンは誤作動防止として、\n　保存先ファイルでは非表示となります。"]
[]
["■業者情報【①：保証書を依頼された会社名等を入力してください。依頼者が防水工事施工業者と同一の場合、\n　　　　　　　＊付き箇所は入力不要です。②・③：二次下請等、中間業者が介在する場合に入力してください。】"]
["①会社名＊"]
["　所在地＊"]
["　担当者名＊",null,null,null,null,null,null,"電話番号＊"]
["　依頼日（年月日）",{"$f":"TODAY()","v":"2023-03-06"},null,"到着希望日（年月日）",null,null,null,null,"発行部数",null,null,"部"]
["②会社名"]
["　所在地"]
["　担当者名",null,null,null,null,null,null,"電話番号"]
["③会社名"]
["　所在地"]
["　担当者名",null,null,null,null,null,null,"電話番号"]
["■材料購入店・販売店情報【直接購入の場合は入力不要です。】"]
["会社名"]
["所在地"]
["担当者名"]
["■発送情報【発送先が防水工事施工業者情報又は業者情報①と同一の場合は入力不要です。】"]
["会社名"]
["所在地"]
["担当者名",null,null,null,null,null,null,"電話番号"]
["■ナンバリング【書類管理上、通し番号を付記したい場合に入力。書類右上に転記。】"]
[]
[]
[]
["北海道"]
["青森県"]
["岩手県"]
["宮城県"]
["秋田県"]
["山形県"]
["福島県"]
["茨城県"]
["栃木県"]
["群馬県"]
["埼玉県"]
["千葉県"]
["東京都"]
["神奈川県"]
["新潟県"]
["富山県"]
["石川県"]
["福井県"]
["山梨県"]
["長野県"]
["岐阜県"]
["静岡県"]
["愛知県"]
["三重県"]
["滋賀県"]
["京都府"]
["大阪府"]
["兵庫県"]
["奈良県"]
["和歌山県"]
["鳥取県"]
["島根県"]
["岡山県"]
["広島県"]
["山口県"]
["徳島県"]
["香川県"]
["愛媛県"]
["高知県"]
["福岡県"]
["佐賀県"]
["長崎県"]
["熊本県"]
["大分県"]
["宮崎県"]
["鹿児島県"]
["沖縄県"]

{"sheet":"3社保証書","index":1,"n_rows":96,"n_cols":30,"rows_kept":96,"cut":false,"hidden":false,"merged":[[0,0,0,32],[1,0,1,26],[1,27,1,32],[2,0,2,32],[5,0,5,32],[4,25,4,32],[3,0,3,24],[3,25,3,32],[4,0,4,24],[6,0,6,6],[6,7,6,32],[7,0,7,6],[11,29,11,31],[12,1,12,6],[12,29,12,31],[11,24,11,28],[9,0,9,32],[10,1,10,6],[10,29,10,31],[11,1,11,6],[8,0,8,6],[10,24,10,28],[10,7,10,23],[11,7,11,23],[12,7,12,23],[12,24,12,28],[8,7,8,32],[7,7,7,32],[15,29,15,31],[16,1,16,6],[16,29,16,31],[15,7,15,23],[16,7,16,23],[15,1,15,6],[13,29,13,31],[14,1,14,6],[14,29,14,31],[13,1,13,6],[13,7,13,23],[14,7,14,23],[13,24,13,28],[14,24,14,28],[15,24,15,28],[16,24,16,28],[19,29,19,31],[20,1,20,6],[20,29,20,31],[19,24,19,28],[20,24,20,28],[19,1,19,6],[17,29,17,31],[18,1,18,6],[18,29,18,31],[18,24,18,28],[17,7,17,23],[17,1,17,6],[18,7,18,23],[19,7,19,23],[20,7,20,23],[17,24,17,28],[34,1,34,31],[35,1,38,5],[36,6,37,31],[38,6,38,31],[21,0,21,32],[22,1,24,31],[25,1,27,31],[28,0,28,32],[29,1,29,31],[30,1,33,5],[31,6,32,30],[33,6,33,30],[30,6,30,31],[35,6,35,31],[43,0,43,27],[43,28,43,32],[44,0,44,27],[44,28,44,32],[45,0,45,32],[46,1,48,31],[39,1,39,31],[40,1,40,5],[40,6,40,31],[41,1,41,5],[41,6,41,31],[42,1,42,5],[42,6,42,9],[42,10,42,31],[55,1,55,31],[56,1,56,31],[57,1,57,31],[58,1,58,31],[59,1,59,31],[60,1,60,31],[49,1,49,31],[50,1,50,31],[51,1,51,31],[52,1,52,31],[53,1,53,31],[54,1,54,31],[67,1,67,31],[68,1,68,31],[69,1,69,31],[70,1,70,31],[71,1,71,31],[72,1,72,31],[61,1,61,31],[62,1,62,31],[63,1,63,31],[64,1,64,31],[65,1,65,31],[66,1,66,31],[91,1,91,31],[92,1,92,31],[93,1,93,31],[94,1,94,31],[95,1,96,31],[85,1,85,31],[86,1,86,31],[87,1,87,31],[88,1,88,31],[89,1,89,31],[90,1,90,31],[79,1,79,31],[80,1,80,31],[81,1,81,31],[82,1,82,31],[83,1,83,31],[84,1,84,31],[73,1,73,31],[74,1,74,31],[75,1,75,31],[76,1,76,31],[77,1,77,31],[78,1,78,31]]}
[{"$f":"入力フォーム!J48","v":0}]
["発行日",null,null,null,null,null,null,null,null,null,null,null,null,null,null,null,null,null,null,null,null,null,null,null,null,null,null,{"$f":"入力フォーム!K8","v":"00:00:00"}]
["防水工事保証書"]
[{"$f":"入力フォーム!B3","v":0}]
[{"$f":"入力フォーム!B4&\" \"&入力フォーム!K4","v":" "}]
[]
["工　事　名　称：",null,null,null,null,null,null,{"$f":"入力フォーム!B5","v":0}]
["所　　在　　地：",null,null,null,null,null,null,{"$f":"入力フォーム!B6&入力フォーム!C6","v":""}]
["保 証 開 始 日：",null,null,null,null,null,null,{"$f":"入力フォーム!B8&\" \"&入力フォーム!C8&入力フォーム!D8&入力フォーム!E8&入力フォーム!F8\n &入力フォーム!G8&入力フォーム!H8","v":" 年月日"}]
[]
[null,"施工部位",null,null,null,null,null,"防水工法・仕様",null,null,null,null,null,null,null,null,null,null,null,null,null,null,null,null,"面積・数量",null,null,null,null,"保証年数"]
[null,{"$f":"入力フォーム!A19","v":0},null,null,null,null,null,{"$f":"入力フォーム!B19","v":0},null,null,null,null,null,null,null,null,null,null,null,null,null,null,null,null,{"$f":"入力フォーム!H19","v":0},null,null,null,null,{"$f":"入力フォーム!K19","v":0}]
[null,{"$f":"入力フォーム!A20","v":0},null,null,null,null,null,{"$f":"入力フォーム!B20","v":0},null,null,null,null,null,null,null,null,null,null,null,null,null,null,null,null,{"$f":"入力フォーム!H20","v":0},null,null,null,null,{"$f":"入力フォーム!K20","v":0}]
[null,{"$f":"入力フォーム!A21","v":0},null,null,null,null,null,{"$f":"入力フォーム!B21","v":0},null,null,null,null,null,null,null,null,null,null,null,null,null,null,null,null,{"$f":"入力フォーム!H21","v":0},null,null,null,null,{"$f":"入力フォーム!K21","v":0}]
[null,{"$f":"入力フォーム!A22","v":0},null,null,null,null,null,{"$f":"入力フォーム!B22","v":0},null,null,null,null,null,null,null,null,null,null,null,null,null,null,null,null,{"$f":"入力フォーム!H22","v":0},null,null,null,null,{"$f":"入力フォーム!K22","v":0}]
[null,{"$f":"入力フォーム!A23","v":0},null,null,null,null,null,{"$f":"入力フォーム!B23","v":0},null,null,null,null,null,null,null,null,null,null,null,null,null,null,null,null,{"$f":"入力フォーム!H23","v":0},null,null,null,null,{"$f":"入力フォーム!K23","v":0}]
[null,{"$f":"入力フォーム!A24","v":0},null,null,null,null,null,{"$f":"入力フォーム!B24","v":0},null,null,null,null,null,null,null,null,null,null,null,null,null,null,null,null,{"$f":"入力フォーム!H24","v":0},null,null,null,null,{"$f":"入力フォーム!K24","v":0}]
[null,{"$f":"入力フォーム!A25","v":0},null,null,null,null,null,{"$f":"入力フォーム!B25","v":0},null,null,null,null,null,null,null,null,null,null,null,null,null,null,null,null,{"$f":"入力フォーム!H25","v":0},null,null,null,null,{"$f":"入力フォーム!K25","v":0}]
[null,{"$f":"入力フォーム!A26","v":0},null,null,null,null,null,{"$f":"入力フォーム!B26","v":0},null,null,null,null,null,null,null,null,null,null,null,null,null,null,null,null,{"$f":"入力フォーム!H26","v":0},null,null,null,null,{"$f":"入力フォーム!K26","v":0}]
[null,{"$f":"入力フォーム!A27","v":0},null,null,null,null,null,{"$f":"入力フォーム!B27","v":0},null,null,null,null,null,null,null,null,null,null,null,null,null,null,null,null,{"$f":"入力フォーム!H27","v":0},null,null,null,null,{"$f":"入力フォーム!K27","v":0}]
[null,{"$f":"入力フォーム!A28","v":0},null,null,null,null,null,{"$f":"入力フォーム!B28","v":0},null,null,null,null,null,null,null,null,null,null,null,null,null,null,null,null,{"$f":"入力フォーム!H28","v":0},null,null,null,null,{"$f":"入力フォーム!K28","v":0}]
[]
[null,"上記防水工事に関し、保証期間内に防水層から屋内への雨水浸入（漏水）が発生した場合、直ちに関係会社により原因調査を行い、施工上及び材料品質に起因する原因が確認された場合、当該防水層の修補を行います。　　　　　　但し裏面記載の免責事項に該当する場合や維持管理の不備による事故については保証の対象外と致します。"]
[]
[]
[null,"〔責任範囲〕工事請負業者は工事管理責任などを含む防水工事全般に於ける責任。防水工事施工業者は\n下請契約に基づく防水工事の保証。材料製造業者は標準防水仕様及び売買契約に基づく納入材料の品質保証。\nそれぞれの区分により漏水に対して防水層の保証を行います。"]
[]
[]
[]
[null,"工事請負業者"]
[null,null,null,null,null,null,{"$f":"入力フォーム!B11&入力フォーム!C11","v":""}]
[null,null,null,null,null,null,{"$f":"入力フォーム!B10","v":0}]
[]
[null,null,null,null,null,null,{"$f":"入力フォーム!B12","v":0}]
[null,"防水工事施工業者"]
[null,null,null,null,null,null,{"$f":"入力フォーム!B15&入力フォーム!C15","v":""}]
[null,null,null,null,null,null,{"$f":"入力フォーム!B14","v":0}]
[]
[null,null,null,null,null,null,{"$f":"入力フォーム!B16","v":0}]
[null,"材料製造業者"]
[null,null,null,null,null,null,"東京都足立区千住東二丁目２３番４号"]
[null,null,null,null,null,null,"日新工業株式会社 関東営業所"]
[null,null,null,null,null,null,"　所 長　",null,null,null,"堤　大作"]
[null,null,null,null,null,null,null,null,null,null,null,null,null,null,null,null,null,null,null,null,null,null,null,null,null,null,null,null,"№2101001‐2"]
[null,null,null,null,null,null,null,null,null,null,null,null,null,null,null,null,null,null,null,null,null,null,null,null,null,null,null,null,"日新工業株式会社"]
["　免　責　事　項　"]
[null," 下記項目に起因する事象、維持管理を怠った事に起因する漏水事故並びに防水機能が保たれている場合は、本防水工事\n 保証書の保証対象外となります。尚、保証範囲は防水層から屋内に発生した漏水の修補に限定され、記載の無い事項は\n 施主と請負業者との工事請負契約書に依るものとします。"]
[]
[]
[null,"■天災"]
[null,"・地震、落雷、ひょう、台風、その他予見不可能な自然災害によるもの。"]
[null,"■外力"]
[null,"・事故、火災、その他人為的な破壊行為による防水層の損傷。"]
[null,"・構造または設計上に起因する防水層の損傷や不具合。"]
[null,"・大気汚染、付着物による汚染、飛来物等の物理的・化学的な外力及びその他不可抗力による損傷。"]
[null,"・建物内部から起因する防水層の損傷。"]
[null,"・重量物などを設置したことによる防水層の損傷。"]
[null,"・その他、上記に類する様な外的要因に起因する防水層の損傷。"]
[null,"■維持管理の不備・使用上の不注意"]
[null,"・本書記載の維持管理が遵守されなかった事に起因する防水層の損傷。"]
[null,"・植物の生育による防水層の損傷。"]
[null,"・常時防水層が浸水することや土砂堆積による防水層の損傷。"]
[null,"・ドレンの目詰まりによるオーバーフロー。"]
[null,"・薬品などの付着、鋭利な刃物や靴による防水層の損傷。"]
[null,"・その他、上記に類するような建物、屋上、設備等の維持管理に起因する防水層の損傷。"]
[null,"■防水機能が保たれているもの"]
[null,"・防水層に発生したふくれ及びしわ及びひび割れ。"]
[null,"・経年劣化による表面の変退色及び砂落ち。"]
[null,"・下地の不陸などにより防水層の上に発生する水溜まり。"]
[null,"・防水層表面に発生した微細な劣化。"]
[null,"・その他、直接漏水に繋がらない不具合。"]
[null,"■その他"]
[null,"・本書に防水施工業者などの記名・捺印がない場合。"]
[null,"・保証書の対象防水層を、本保証書の発行者以外の者が補修した場合。"]
[null,"  （増築や仕上塗料の塗布及び防水層端末部のシール打替えを含む）"]
[null,"・防水層端末部のシーリング材の劣化に起因する不具合。"]
[null,"・防水施工部位に異なる業者との接合部が生じた場合。"]
[null,"・防水施工部位の上に材料製造業者の指定する以外の仕上げ材を設置した事に起因する不具合。"]
[null,"・異種材料や他業者との取り合い部位など、それぞれの施工範囲外に起因する漏水は対象外。"]
[null,"・承認を受けたVE仕様に対して設計図書との不適合を理由とした請求の場合。"]
[null,"・建物の所有権が移転された場合に防水工事施工業者の承諾がない場合。"]
[null,"・現在の科学技術では予期不可能な事象に起因する不具合。"]
[null,"維 持 管 理 に 関 し て"]
[null,"・ドレンや側溝は最低でも1年に1回清掃し、土や落ち葉などのゴミは取り除いて下さい。（植栽箇所は、4回程度/年）"]
[null,"・防水層からの漏水を知った時から１年以内に請負業者に通知せず放置した場合は本保証書による保証の対象外となります。"]
[null,"・防水層の上で喫煙や火気類の使用は行わないで下さい。"]
[null,"・防水層に薬品類や塗料や溶剤をこぼすと変退色などを起こす可能性があります。"]
[null,"・清掃や雪下ろしをする際には、防水層を損傷する可能性がありますので、鋭利な道具を使用しないで下さい。"]
[null,"・防水層の上に直接植栽を設置する場合は、必ず耐根処理を行って下さい。"]
[null,"・仕上塗料を塗替える事で防水層の耐久性の向上が期待できる為、仕上塗料の塗替目安で塗替えを行う事を推奨します。（有償）"]
[null,"・仕上塗料塗替えを行う場合は、材料製造業者指定の物とし、必ず請負業者にご相談下さい。"]
[null,"・防水端末部のシール打替え（有償）を行う場合は、材料製造業者指定の物とし、必ず請負業者にご相談下さい。"]
[null,"・保証対象範囲の防水層の上に新規に何か設置を行う場合は必ず請負業者にご相談下さい。"]
[null,"・その他各工法のカタログ記載事項を遵守下さい。"]
[null,"調査に関して"]
[null,"保証期間中に、防水層の不具合に関して調査を依頼され、保証範囲に契約不適合が見受けられなかった場合、調査費用は発注者様のご負担とさせていただきます。"]

{"sheet":"3社保証書（なし）","index":2,"n_rows":96,"n_cols":29,"rows_kept":96,"cut":false,"hidden":false,"merged":[[0,0,0,32],[1,0,1,26],[5,0,5,32],[2,0,2,32],[6,0,6,6],[6,7,6,32],[7,0,7,6],[1,27,1,32],[4,25,4,32],[7,7,7,32],[3,0,3,24],[4,0,4,24],[3,25,3,32],[12,1,12,6],[13,1,13,6],[9,0,9,32],[10,1,10,6],[11,1,11,6],[10,7,10,27],[8,0,8,6],[11,7,11,27],[12,7,12,27],[13,7,13,27],[8,7,8,32],[18,1,18,6],[19,1,19,6],[18,28,18,31],[19,28,19,31],[16,1,16,6],[17,1,17,6],[16,28,16,31],[17,28,17,31],[14,1,14,6],[15,1,15,6],[15,28,15,31],[17,7,17,27],[18,7,18,27],[19,7,19,27],[14,7,14,27],[15,7,15,27],[16,7,16,27],[25,1,27,31],[28,0,28,32],[29,1,29,31],[30,1,33,5],[31,6,32,30],[33,6,33,30],[20,1,20,6],[21,0,21,32],[22,1,24,31],[20,28,20,31],[20,7,20,27],[30,6,30,31],[39,1,39,31],[40,1,40,5],[40,6,40,31],[41,1,41,5],[41,6,41,31],[42,1,42,5],[34,1,34,31],[35,1,38,5],[36,6,37,31],[38,6,38,31],[35,6,35,31],[42,6,42,9],[42,10,42,31],[49,1,49,31],[50,1,50,31],[51,1,51,31],[52,1,52,31],[53,1,53,31],[54,1,54,31],[43,0,43,27],[43,28,43,32],[44,0,44,27],[44,28,44,32],[45,0,45,32],[46,1,48,31],[61,1,61,31],[62,1,62,31],[63,1,63,31],[64,1,64,31],[65,1,65,31],[66,1,66,31],[55,1,55,31],[56,1,56,31],[57,1,57,31],[58,1,58,31],[59,1,59,31],[60,1,60,31],[75,1,75,31],[76,1,76,31],[77,1,77,31],[78,1,78,31],[67,1,67,31],[68,1,68,31],[69,1,69,31],[70,1,70,31],[71,1,71,31],[72,1,72,31],[91,1,91,31],[92,1,92,31],[93,1,93,31],[94,1,94,31],[95,1,96,31],[10,28,10,31],[11,28,11,31],[12,28,12,31],[13,28,13,31],[14,28,14,31],[85,1,85,31],[86,1,86,31],[87,1,87,31],[88,1,88,31],[89,1,89,31],[90,1,90,31],[79,1,79,31],[80,1,80,31],[81,1,81,31],[82,1,82,31],[83,1,83,31],[84,1,84,31],[73,1,73,31],[74,1,74,31]]}
[{"$f":"入力フォーム!J48","v":0}]
["発行日",null,null,null,null,null,null,null,null,null,null,null,null,null,null,null,null,null,null,null,null,null,null,null,null,null,null,{"$f":"入力フォーム!K8","v":"00:00:00"}]
["防水工事保証書"]
[{"$f":"入力フォーム!B3","v":0}]
[{"$f":"入力フォーム!B4&\" \"&入力フォーム!K4","v":" "}]
[]
["工　事　名　称：",null,null,null,null,null,null,{"$f":"入力フォーム!B5","v":0}]
["所　　在　　地：",null,null,null,null,null,null,{"$f":"入力フォーム!B6&入力フォーム!C6","v":""}]
["保 証 開 始 日：",null,null,null,null,null,null,{"$f":"入力フォーム!B8&\" \"&入力フォーム!C8&入力フォーム!D8&入力フォーム!E8&入力フォーム!F8\n &入力フォーム!G8&入力フォーム!H8","v":" 年月日"}]
[]
[null,"施工部位",null,null,null,null,null,"防水工法・仕様",null,null,null,null,null,null,null,null,null,null,null,null,null,null,null,null,null,null,null,null,"保証年数"]
[null,{"$f":"入力フォーム!A19","v":0},null,null,null,null,null,{"$f":"入力フォーム!B19","v":0},null,null,null,null,null,null,null,null,null,null,null,null,null,null,null,null,null,null,null,null,{"$f":"入力フォーム!K19","v":0}]
[null,{"$f":"入力フォーム!A20","v":0},null,null,null,null,null,{"$f":"入力フォーム!B20","v":0},null,null,null,null,null,null,null,null,null,null,null,null,null,null,null,null,null,null,null,null,{"$f":"入力フォーム!K20","v":0}]
[null,{"$f":"入力フォーム!A21","v":0},null,null,null,null,null,{"$f":"入力フォーム!B21","v":0},null,null,null,null,null,null,null,null,null,null,null,null,null,null,null,null,null,null,null,null,{"$f":"入力フォーム!K21","v":0}]
[null,{"$f":"入力フォーム!A22","v":0},null,null,null,null,null,{"$f":"入力フォーム!B22","v":0},null,null,null,null,null,null,null,null,null,null,null,null,null,null,null,null,null,null,null,null,{"$f":"入力フォーム!K22","v":0}]
[null,{"$f":"入力フォーム!A23","v":0},null,null,null,null,null,{"$f":"入力フォーム!B23","v":0},null,null,null,null,null,null,null,null,null,null,null,null,null,null,null,null,null,null,null,null,{"$f":"入力フォーム!K23","v":0}]
[null,{"$f":"入力フォーム!A24","v":0},null,null,null,null,null,{"$f":"入力フォーム!B24","v":0},null,null,null,null,null,null,null,null,null,null,null,null,null,null,null,null,null,null,null,null,{"$f":"入力フォーム!K24","v":0}]
[null,{"$f":"入力フォーム!A25","v":0},null,null,null,null,null,{"$f":"入力フォーム!B25","v":0},null,null,null,null,null,null,null,null,null,null,null,null,null,null,null,null,null,null,null,null,{"$f":"入力フォーム!K25","v":0}]
[null,{"$f":"入力フォーム!A26","v":0},null,null,null,null,null,{"$f":"入力フォーム!B26","v":0},null,null,null,null,null,null,null,null,null,null,null,null,null,null,null,null,null,null,null,null,{"$f":"入力フォーム!K26","v":0}]
[null,{"$f":"入力フォーム!A27","v":0},null,null,null,null,null,{"$f":"入力フォーム!B27","v":0},null,null,null,null,null,null,null,null,null,null,null,null,null,null,null,null,null,null,null,null,{"$f":"入力フォーム!K27","v":0}]
[null,{"$f":"入力フォーム!A28","v":0},null,null,null,null,null,{"$f":"入力フォーム!B28","v":0},null,null,null,null,null,null,null,null,null,null,null,null,null,null,null,null,null,null,null,null,{"$f":"入力フォーム!K28","v":0}]
[]
[null,"上記防水工事に関し、保証期間内に防水層から屋内への雨水浸入（漏水）が発生した場合、直ちに関係会社により原因調査を行い、施工上及び材料品質に起因する原因が確認された場合、当該防水層の修補を行います。　　　　　　但し裏面記載の免責事項に該当する場合や維持管理の不備による事故については保証の対象外と致します。"]
[]
[]
[null,"〔責任範囲〕工事請負業者は工事管理責任などを含む防水工事全般に於ける責任。防水工事施工業者は\n下請契約に基づく防水工事の保証。材料製造業者は標準防水仕様及び売買契約に基づく納入材料の品質保証。\nそれぞれの区分により漏水に対して防水層の保証を行います。"]
[]
[]
[]
[null,"工事請負業者"]
[null,null,null,null,null,null,{"$f":"入力フォーム!B11&入力フォーム!C11","v":""}]
[null,null,null,null,null,null,{"$f":"入力フォーム!B10","v":0}]
[]
[null,null,null,null,null,null,{"$f":"入力フォーム!B12","v":0}]
[null,"防水工事施工業者"]
[null,null,null,null,null,null,{"$f":"入力フォーム!B15&入力フォーム!C15","v":""}]
[null,null,null,null,null,null,{"$f":"入力フォーム!B14","v":0}]
[]
[null,null,null,null,null,null,{"$f":"入力フォーム!B16","v":0}]
[null,"材料製造業者"]
[null,null,null,null,null,null,{"$f":"'3社保証書'!G41:AF41","v":"東京都足立区千住東二丁目２３番４号"}]
[null,null,null,null,null,null,{"$f":"'3社保証書'!G42:AF42","v":"日新工業株式会社 関東営業所"}]
[null,null,null,null,null,null,{"$f":"'3社保証書'!G43:J43","v":"　所 長　"},null,null,null,{"$f":"'3社保証書'!K43:AF43","v":"堤　大作"}]
[null,null,null,null,null,null,null,null,null,null,null,null,null,null,null,null,null,null,null,null,null,null,null,null,null,null,null,null,"№2101001‐2"]
[null,null,null,null,null,null,null,null,null,null,null,null,null,null,null,null,null,null,null,null,null,null,null,null,null,null,null,null,"日新工業株式会社"]
["　免　責　事　項　"]
[null," 下記項目に起因する事象、維持管理を怠った事に起因する漏水事故並びに防水機能が保たれている場合は、本防水工事\n 保証書の保証対象外となります。尚、保証範囲は防水層から屋内に発生した漏水の修補に限定され、記載の無い事項は\n 施主と請負業者との工事請負契約書に依るものとします。"]
[]
[]
[null,"■天災"]
[null,"・地震、落雷、ひょう、台風、その他予見不可能な自然災害によるもの。"]
[null,"■外力"]
[null,"・事故、火災、その他人為的な破壊行為による防水層の損傷。"]
[null,"・構造または設計上に起因する防水層の損傷や不具合。"]
[null,"・大気汚染、付着物による汚染、飛来物等の物理的・化学的な外力及びその他不可抗力による損傷。"]
[null,"・建物内部から起因する防水層の損傷。"]
[null,"・重量物などを設置したことによる防水層の損傷。"]
[null,"・その他、上記に類する様な外的要因に起因する防水層の損傷。"]
[null,"■維持管理の不備・使用上の不注意"]
[null,"・本書記載の維持管理が遵守されなかった事に起因する防水層の損傷。"]
[null,"・植物の生育による防水層の損傷。"]
[null,"・常時防水層が浸水することや土砂堆積による防水層の損傷。"]
[null,"・ドレンの目詰まりによるオーバーフロー。"]
[null,"・薬品などの付着、鋭利な刃物や靴による防水層の損傷。"]
[null,"・その他、上記に類するような建物、屋上、設備等の維持管理に起因する防水層の損傷。"]
[null,"■防水機能が保たれているもの"]
[null,"・防水層に発生したふくれ及びしわ及びひび割れ。"]
[null,"・経年劣化による表面の変退色及び砂落ち。"]
[null,"・下地の不陸などにより防水層の上に発生する水溜まり。"]
[null,"・防水層表面に発生した微細な劣化。"]
[null,"・その他、直接漏水に繋がらない不具合。"]
[null,"■その他"]
[null,"・本書に防水施工業者などの記名・捺印がない場合。"]
[null,"・保証書の対象防水層を、本保証書の発行者以外の者が補修した場合。"]
[null,"  （増築や仕上塗料の塗布及び防水層端末部のシール打替えを含む）"]
[null,"・防水層端末部のシーリング材の劣化に起因する不具合。"]
[null,"・防水施工部位に異なる業者との接合部が生じた場合。"]
[null,"・防水施工部位の上に材料製造業者の指定する以外の仕上げ材を設置した事に起因する不具合。"]
[null,"・異種材料や他業者との取り合い部位など、それぞれの施工範囲外に起因する漏水は対象外。"]
[null,"・承認を受けたVE仕様に対して設計図書との不適合を理由とした請求の場合。"]
[null,"・建物の所有権が移転された場合に防水工事施工業者の承諾がない場合。"]
[null,"・現在の科学技術では予期不可能な事象に起因する不具合。"]
[null,"維 持 管 理 に 関 し て"]
[null,"・ドレンや側溝は最低でも1年に1回清掃し、土や落ち葉などのゴミは取り除いて下さい。（植栽箇所は、4回程度/年）"]
[null,"・防水層からの漏水を知った時から１年以内に請負業者に通知せず放置した場合は本保証書による保証の対象外となります。"]
[null,"・防水層の上で喫煙や火気類の使用は行わないで下さい。"]
[null,"・防水層に薬品類や塗料や溶剤をこぼすと変退色などを起こす可能性があります。"]
[null,"・清掃や雪下ろしをする際には、防水層を損傷する可能性がありますので、鋭利な道具を使用しないで下さい。"]
[null,"・防水層の上に直接植栽を設置する場合は、必ず耐根処理を行って下さい。"]
[null,"・仕上塗料を塗替える事で防水層の耐久性の向上が期待できる為、仕上塗料の塗替目安で塗替えを行う事を推奨します。（有償）"]
[null,"・仕上塗料塗替えを行う場合は、材料製造業者指定の物とし、必ず請負業者にご相談下さい。"]
[null,"・防水端末部のシール打替え（有償）を行う場合は、材料製造業者指定の物とし、必ず請負業者にご相談下さい。"]
[null,"・保証対象範囲の防水層の上に新規に何か設置を行う場合は必ず請負業者にご相談下さい。"]
[null,"・その他各工法のカタログ記載事項を遵守下さい。"]
[null,"調査に関して"]
[null,"保証期間中に、防水層の不具合に関して調査を依頼され、保証範囲に契約不適合が見受けられなかった場合、調査費用は発注者様のご負担とさせていただきます。"]

{"sheet":"3社保証書（分割）","index":3,"n_rows":96,"n_cols":30,"rows_kept":96,"cut":false,"hidden":false,"merged":[[0,0,0,32],[1,0,1,26],[1,27,1,32],[2,0,2,32],[5,0,5,32],[4,25,4,32],[3,0,3,24],[3,25,3,32],[4,0,4,24],[95,1,96,31],[30,1,33,5],[33,6,33,30],[38,6,38,31],[35,1,38,5],[31,6,32,30],[90,1,90,31],[91,1,91,31],[92,1,92,31],[93,1,93,31],[94,1,94,31],[81,1,81,31],[82,1,82,31],[83,1,83,31],[84,1,84,31],[85,1,85,31],[86,1,86,31],[87,1,87,31],[88,1,88,31],[89,1,89,31],[55,1,55,31],[56,1,56,31],[57,1,57,31],[58,1,58,31],[76,1,76,31],[77,1,77,31],[78,1,78,31],[79,1,79,31],[80,1,80,31],[59,1,59,31],[60,1,60,31],[61,1,61,31],[46,1,48,31],[49,1,49,31],[50,1,50,31],[51,1,51,31],[52,1,52,31],[67,1,67,31],[68,1,68,31],[69,1,69,31],[70,1,70,31],[71,1,71,31],[72,1,72,31],[73,1,73,31],[74,1,74,31],[75,1,75,31],[53,1,53,31],[54,1,54,31],[64,1,64,31],[65,1,65,31],[66,1,66,31],[43,0,43,27],[43,28,43,32],[44,0,44,27],[44,28,44,32],[16,26,16,28],[17,26,17,28],[18,26,18,28],[19,26,19,28],[20,26,20,28],[62,1,62,31],[45,0,45,32],[17,20,17,23],[18,20,18,23],[19,20,19,23],[16,29,16,31],[17,29,17,31],[19,29,19,31],[42,1,42,5],[21,0,21,32],[18,24,18,25],[17,18,17,19],[18,18,18,19],[19,18,19,19],[20,18,20,19],[20,20,20,23],[63,1,63,31],[20,29,20,31],[18,29,18,31],[41,1,41,5],[41,6,41,31],[22,1,24,31],[25,1,27,31],[28,0,28,32],[29,1,29,31],[34,1,34,31],[39,1,39,31],[40,1,40,5],[40,6,40,31],[36,6,37,31],[30,6,30,31],[35,6,35,31],[42,6,42,9],[42,10,42,31],[6,0,6,6],[6,7,6,32],[7,0,7,6],[8,0,8,6],[10,29,10,31],[11,29,11,31],[7,7,7,32],[8,7,8,32],[14,1,14,6],[14,24,14,25],[12,26,12,28],[13,26,13,28],[14,26,14,28],[11,18,11,19],[12,18,12,19],[13,18,13,19],[14,18,14,19],[9,0,9,32],[10,18,10,28],[10,1,10,6],[11,1,11,6],[12,29,12,31],[13,29,13,31],[14,29,14,31],[11,24,11,25],[12,24,12,25],[13,24,13,25],[16,18,16,19],[11,20,11,23],[12,20,12,23],[13,20,13,23],[14,20,14,23],[15,29,15,31],[15,24,15,25],[16,24,16,25],[15,26,15,28],[15,18,15,19],[15,20,15,23],[12,1,12,6],[13,1,13,6],[11,26,11,28],[20,1,20,6],[10,7,10,17],[11,7,11,17],[12,7,12,17],[13,7,13,17],[14,7,14,17],[15,7,15,17],[16,7,16,17],[17,7,17,17],[18,7,18,17],[18,1,18,6],[19,1,19,6],[16,1,16,6],[17,1,17,6],[15,1,15,6],[19,7,19,17],[20,7,20,17],[17,24,17,25],[16,20,16,23],[19,24,19,25],[20,24,20,25]]}
[{"$f":"入力フォーム!J48","v":0}]
["発行日",null,null,null,null,null,null,null,null,null,null,null,null,null,null,null,null,null,null,null,null,null,null,null,null,null,null,{"$f":"入力フォーム!K8","v":"00:00:00"}]
["防水工事保証書"]
[{"$f":"入力フォーム!B3","v":0}]
[{"$f":"入力フォーム!B4&\" \"&入力フォーム!K4","v":" "}]
[]
["工　事　名　称：",null,null,null,null,null,null,{"$f":"入力フォーム!B5","v":0}]
["所　　在　　地：",null,null,null,null,null,null,{"$f":"入力フォーム!B6&入力フォーム!C6","v":""}]
["保 証 開 始 日：",null,null,null,null,null,null,{"$f":"入力フォーム!B8&\" \"&入力フォーム!C8&入力フォーム!D8&入力フォーム!E8&入力フォーム!F8\n &入力フォーム!G8&入力フォーム!H8","v":" 年月日"}]
[]
[null,"施工部位",null,null,null,null,null,"防水工法・仕様",null,null,null,null,null,null,null,null,null,null,"面積・数量",null,null,null,null,null,null,null,null,null,null,"保証年数"]
[null,{"$f":"入力フォーム!A19","v":0},null,null,null,null,null,{"$f":"入力フォーム!B19","v":0},null,null,null,null,null,null,null,null,null,null,{"$f":"入力フォーム!G19","v":0},null,{"$f":"入力フォーム!H19","v":0},null,null,null,{"$f":"入力フォーム!I19","v":0},null,{"$f":"入力フォーム!J19","v":0},null,null,{"$f":"入力フォーム!K19","v":0}]
[null,{"$f":"入力フォーム!A20","v":0},null,null,null,null,null,{"$f":"入力フォーム!B20","v":0},null,null,null,null,null,null,null,null,null,null,{"$f":"入力フォーム!G20","v":0},null,{"$f":"入力フォーム!H20","v":0},null,null,null,{"$f":"入力フォーム!I20","v":0},null,{"$f":"入力フォーム!J20","v":0},null,null,{"$f":"入力フォーム!K20","v":0}]
[null,{"$f":"入力フォーム!A21","v":0},null,null,null,null,null,{"$f":"入力フォーム!B21","v":0},null,null,null,null,null,null,null,null,null,null,{"$f":"入力フォーム!G21","v":0},null,{"$f":"入力フォーム!H21","v":0},null,null,null,{"$f":"入力フォーム!I21","v":0},null,{"$f":"入力フォーム!J21","v":0},null,null,{"$f":"入力フォーム!K21","v":0}]
[null,{"$f":"入力フォーム!A22","v":0},null,null,null,null,null,{"$f":"入力フォーム!B22","v":0},null,null,null,null,null,null,null,null,null,null,{"$f":"入力フォーム!G22","v":0},null,{"$f":"入力フォーム!H22","v":0},null,null,null,{"$f":"入力フォーム!I22","v":0},null,{"$f":"入力フォーム!J22","v":0},null,null,{"$f":"入力フォーム!K22","v":0}]
[null,{"$f":"入力フォーム!A23","v":0},null,null,null,null,null,{"$f":"入力フォーム!B23","v":0},null,null,null,null,null,null,null,null,null,null,{"$f":"入力フォーム!G23","v":0},null,{"$f":"入力フォーム!H23","v":0},null,null,null,{"$f":"入力フォーム!I23","v":0},null,{"$f":"入力フォーム!J23","v":0},null,null,{"$f":"入力フォーム!K23","v":0}]
[null,{"$f":"入力フォーム!A24","v":0},null,null,null,null,null,{"$f":"入力フォーム!B24","v":0},null,null,null,null,null,null,null,null,null,null,{"$f":"入力フォーム!G24","v":0},null,{"$f":"入力フォーム!H24","v":0},null,null,null,{"$f":"入力フォーム!I24","v":0},null,{"$f":"入力フォーム!J24","v":0},null,null,{"$f":"入力フォーム!K24","v":0}]
[null,{"$f":"入力フォーム!A25","v":0},null,null,null,null,null,{"$f":"入力フォーム!B25","v":0},null,null,null,null,null,null,null,null,null,null,{"$f":"入力フォーム!G25","v":0},null,{"$f":"入力フォーム!H25","v":0},null,null,null,{"$f":"入力フォーム!I25","v":0},null,{"$f":"入力フォーム!J25","v":0},null,null,{"$f":"入力フォーム!K25","v":0}]
[null,{"$f":"入力フォーム!A26","v":0},null,null,null,null,null,{"$f":"入力フォーム!B26","v":0},null,null,null,null,null,null,null,null,null,null,{"$f":"入力フォーム!G26","v":0},null,{"$f":"入力フォーム!H26","v":0},null,null,null,{"$f":"入力フォーム!I26","v":0},null,{"$f":"入力フォーム!J26","v":0},null,null,{"$f":"入力フォーム!K26","v":0}]
[null,{"$f":"入力フォーム!A27","v":0},null,null,null,null,null,{"$f":"入力フォーム!B27","v":0},null,null,null,null,null,null,null,null,null,null,{"$f":"入力フォーム!G27","v":0},null,{"$f":"入力フォーム!H27","v":0},null,null,null,{"$f":"入力フォーム!I27","v":0},null,{"$f":"入力フォーム!J27","v":0},null,null,{"$f":"入力フォーム!K27","v":0}]
[null,{"$f":"入力フォーム!A28","v":0},null,null,null,null,null,{"$f":"入力フォーム!B28","v":0},null,null,null,null,null,null,null,null,null,null,{"$f":"入力フォーム!G28","v":0},null,{"$f":"入力フォーム!H28","v":0},null,null,null,{"$f":"入力フォーム!I28","v":0},null,{"$f":"入力フォーム!J28","v":0},null,null,{"$f":"入力フォーム!K28","v":0}]
[]
[null,"上記防水工事に関し、保証期間内に防水層から屋内への雨水浸入（漏水）が発生した場合、直ちに関係会社により原因調査を行い、施工上及び材料品質に起因する原因が確認された場合、当該防水層の修補を行います。　　　　　　但し裏面記載の免責事項に該当する場合や維持管理の不備による事故については保証の対象外と致します。"]
[]
[]
[null,"〔責任範囲〕工事請負業者は工事管理責任などを含む防水工事全般に於ける責任。防水工事施工業者は\n下請契約に基づく防水工事の保証。材料製造業者は標準防水仕様及び売買契約に基づく納入材料の品質保証。\nそれぞれの区分により漏水に対して防水層の保証を行います。"]
[]
[]
[]
[null,"工事請負業者"]
[null,null,null,null,null,null,{"$f":"入力フォーム!B11&入力フォーム!C11","v":""}]
[null,null,null,null,null,null,{"$f":"入力フォーム!B10","v":0}]
[]
[null,null,null,null,null,null,{"$f":"入力フォーム!B12","v":0}]
[null,"防水工事施工業者"]
[null,null,null,null,null,null,{"$f":"入力フォーム!B15&入力フォーム!C15","v":""}]
[null,null,null,null,null,null,{"$f":"入力フォーム!B14","v":0}]
[]
[null,null,null,null,null,null,{"$f":"入力フォーム!B16","v":0}]
[null,"材料製造業者"]
[null,null,null,null,null,null,{"$f":"'3社保証書'!G41:AF41","v":"東京都足立区千住東二丁目２３番４号"}]
[null,null,null,null,null,null,{"$f":"'3社保証書'!G42:AF42","v":"日新工業株式会社 関東営業所"}]
[null,null,null,null,null,null,{"$f":"'3社保証書'!G43:J43","v":"　所 長　"},null,null,null,{"$f":"'3社保証書'!K43:AF43","v":"堤　大作"}]
[null,null,null,null,null,null,null,null,null,null,null,null,null,null,null,null,null,null,null,null,null,null,null,null,null,null,null,null,"№2101001‐2"]
[null,null,null,null,null,null,null,null,null,null,null,null,null,null,null,null,null,null,null,null,null,null,null,null,null,null,null,null,"日新工業株式会社"]
["　免　責　事　項　"]
[null," 下記項目に起因する事象、維持管理を怠った事に起因する漏水事故並びに防水機能が保たれている場合は、本防水工事\n 保証書の保証対象外となります。尚、保証範囲は防水層から屋内に発生した漏水の修補に限定され、記載の無い事項は\n 施主と請負業者との工事請負契約書に依るものとします。"]
[]
[]
[null,"■天災"]
[null,"・地震、落雷、ひょう、台風、その他予見不可能な自然災害によるもの。"]
[null,"■外力"]
[null,"・事故、火災、その他人為的な破壊行為による防水層の損傷。"]
[null,"・構造または設計上に起因する防水層の損傷や不具合。"]
[null,"・大気汚染、付着物による汚染、飛来物等の物理的・化学的な外力及びその他不可抗力による損傷。"]
[null,"・建物内部から起因する防水層の損傷。"]
[null,"・重量物などを設置したことによる防水層の損傷。"]
[null,"・その他、上記に類する様な外的要因に起因する防水層の損傷。"]
[null,"■維持管理の不備・使用上の不注意"]
[null,"・本書記載の維持管理が遵守されなかった事に起因する防水層の損傷。"]
[null,"・植物の生育による防水層の損傷。"]
[null,"・常時防水層が浸水することや土砂堆積による防水層の損傷。"]
[null,"・ドレンの目詰まりによるオーバーフロー。"]
[null,"・薬品などの付着、鋭利な刃物や靴による防水層の損傷。"]
[null,"・その他、上記に類するような建物、屋上、設備等の維持管理に起因する防水層の損傷。"]
[null,"■防水機能が保たれているもの"]
[null,"・防水層に発生したふくれ及びしわ及びひび割れ。"]
[null,"・経年劣化による表面の変退色及び砂落ち。"]
[null,"・下地の不陸などにより防水層の上に発生する水溜まり。"]
[null,"・防水層表面に発生した微細な劣化。"]
[null,"・その他、直接漏水に繋がらない不具合。"]
[null,"■その他"]
[null,"・本書に防水施工業者などの記名・捺印がない場合。"]
[null,"・保証書の対象防水層を、本保証書の発行者以外の者が補修した場合。"]
[null,"  （増築や仕上塗料の塗布及び防水層端末部のシール打替えを含む）"]
[null,"・防水層端末部のシーリング材の劣化に起因する不具合。"]
[null,"・防水施工部位に異なる業者との接合部が生じた場合。"]
[null,"・防水施工部位の上に材料製造業者の指定する以外の仕上げ材を設置した事に起因する不具合。"]
[null,"・異種材料や他業者との取り合い部位など、それぞれの施工範囲外に起因する漏水は対象外。"]
[null,"・承認を受けたVE仕様に対して設計図書との不適合を理由とした請求の場合。"]
[null,"・建物の所有権が移転された場合に防水工事施工業者の承諾がない場合。"]
[null,"・現在の科学技術では予期不可能な事象に起因する不具合。"]
[null,"維 持 管 理 に 関 し て"]
[null,"・ドレンや側溝は最低でも1年に1回清掃し、土や落ち葉などのゴミは取り除いて下さい。（植栽箇所は、4回程度/年）"]
[null,"・防水層からの漏水を知った時から１年以内に請負業者に通知せず放置した場合は本保証書による保証の対象外となります。"]
[null,"・防水層の上で喫煙や火気類の使用は行わないで下さい。"]
[null,"・防水層に薬品類や塗料や溶剤をこぼすと変退色などを起こす可能性があります。"]
[null,"・清掃や雪下ろしをする際には、防水層を損傷する可能性がありますので、鋭利な道具を使用しないで下さい。"]
[null,"・防水層の上に直接植栽を設置する場合は、必ず耐根処理を行って下さい。"]
[null,"・仕上塗料を塗替える事で防水層の耐久性の向上が期待できる為、仕上塗料の塗替目安で塗替えを行う事を推奨します。（有償）"]
[null,"・仕上塗料塗替えを行う場合は、材料製造業者指定の物とし、必ず請負業者にご相談下さい。"]
[null,"・防水端末部のシール打替え（有償）を行う場合は、材料製造業者指定の物とし、必ず請負業者にご相談下さい。"]
[null,"・保証対象範囲の防水層の上に新規に何か設置を行う場合は必ず請負業者にご相談下さい。"]
[null,"・その他各工法のカタログ記載事項を遵守下さい。"]
[null,"調査に関して"]
[null,"保証期間中に、防水層の不具合に関して調査を依頼され、保証範囲に契約不適合が見受けられなかった場合、調査費用は発注者様のご負担とさせていただきます。"]

{"sheet":"２社保証書","index":4,"n_rows":91,"n_cols":30,"rows_kept":91,"cut":false,"hidden":false,"merged":[[0,0,0,32],[1,0,1,26],[1,27,1,32],[2,0,2,32],[5,0,5,32],[4,25,4,32],[3,0,3,24],[3,25,3,32],[4,0,4,24],[86,1,86,31],[87,1,87,31],[88,1,88,31],[89,1,89,31],[90,1,91,31],[10,24,10,28],[11,24,11,28],[12,24,12,28],[13,24,13,28],[14,24,14,28],[80,1,80,31],[81,1,81,31],[82,1,82,31],[83,1,83,31],[84,1,84,31],[85,1,85,31],[74,1,74,31],[75,1,75,31],[76,1,76,31],[77,1,77,31],[78,1,78,31],[79,1,79,31],[68,1,68,31],[69,1,69,31],[70,1,70,31],[71,1,71,31],[72,1,72,31],[73,1,73,31],[62,1,62,31],[63,1,63,31],[64,1,64,31],[65,1,65,31],[66,1,66,31],[67,1,67,31],[56,1,56,31],[57,1,57,31],[58,1,58,31],[59,1,59,31],[60,1,60,31],[61,1,61,31],[50,1,50,31],[51,1,51,31],[52,1,52,31],[53,1,53,31],[54,1,54,31],[55,1,55,31],[44,1,44,31],[45,1,45,31],[46,1,46,31],[47,1,47,31],[48,1,48,31],[49,1,49,31],[38,0,38,27],[38,28,38,32],[39,0,39,27],[39,28,39,32],[40,0,40,32],[41,1,43,31],[34,1,34,31],[35,1,35,5],[35,6,35,31],[36,1,36,5],[36,6,36,31],[37,1,37,5],[21,0,21,32],[22,1,24,31],[25,1,27,31],[28,0,28,32],[29,1,29,31],[30,1,33,5],[31,6,32,31],[33,6,33,31],[30,6,30,31],[37,6,37,9],[37,10,37,31],[19,29,19,31],[20,1,20,6],[20,29,20,31],[19,24,19,28],[20,24,20,28],[19,1,19,6],[17,29,17,31],[18,1,18,6],[18,29,18,31],[17,24,17,28],[18,24,18,28],[17,1,17,6],[17,7,17,23],[18,7,18,23],[19,7,19,23],[20,7,20,23],[15,29,15,31],[16,1,16,6],[16,29,16,31],[15,24,15,28],[16,24,16,28],[15,1,15,6],[13,29,13,31],[14,1,14,6],[14,29,14,31],[13,1,13,6],[16,7,16,23],[13,7,13,23],[14,7,14,23],[15,7,15,23],[6,0,6,6],[6,7,6,32],[7,0,7,6],[11,29,11,31],[12,1,12,6],[12,29,12,31],[9,0,9,32],[10,1,10,6],[10,29,10,31],[11,1,11,6],[8,0,8,6],[10,7,10,23],[11,7,11,23],[12,7,12,23],[7,7,7,32],[8,7,8,32]]}
[{"$f":"入力フォーム!J48","v":0}]
["発行日",null,null,null,null,null,null,null,null,null,null,null,null,null,null,null,null,null,null,null,null,null,null,null,null,null,null,{"$f":"入力フォーム!K8","v":"00:00:00"}]
["防水工事保証書"]
[{"$f":"入力フォーム!B3","v":0}]
[{"$f":"入力フォーム!B4&\" \"&入力フォーム!K4","v":" "}]
[]
["工　事　名　称：",null,null,null,null,null,null,{"$f":"入力フォーム!B5","v":0}]
["所　　在　　地：",null,null,null,null,null,null,{"$f":"入力フォーム!B6&入力フォーム!C6","v":""}]
["保 証 開 始 日：",null,null,null,null,null,null,{"$f":"入力フォーム!B8&\" \"&入力フォーム!C8&入力フォーム!D8&入力フォーム!E8&入力フォーム!F8\n &入力フォーム!G8&入力フォーム!H8","v":" 年月日"}]
[]
[null,"施工部位",null,null,null,null,null,"防水工法・仕様",null,null,null,null,null,null,null,null,null,null,null,null,null,null,null,null,"面積・数量",null,null,null,null,"保証年数"]
[null,{"$f":"入力フォーム!A19","v":0},null,null,null,null,null,{"$f":"入力フォーム!B19","v":0},null,null,null,null,null,null,null,null,null,null,null,null,null,null,null,null,{"$f":"入力フォーム!H19","v":0},null,null,null,null,{"$f":"入力フォーム!K19","v":0}]
[null,{"$f":"入力フォーム!A20","v":0},null,null,null,null,null,{"$f":"入力フォーム!B20","v":0},null,null,null,null,null,null,null,null,null,null,null,null,null,null,null,null,{"$f":"入力フォーム!H20","v":0},null,null,null,null,{"$f":"入力フォーム!K20","v":0}]
[null,{"$f":"入力フォーム!A21","v":0},null,null,null,null,null,{"$f":"入力フォーム!B21","v":0},null,null,null,null,null,null,null,null,null,null,null,null,null,null,null,null,{"$f":"入力フォーム!H21","v":0},null,null,null,null,{"$f":"入力フォーム!K21","v":0}]
[null,{"$f":"入力フォーム!A22","v":0},null,null,null,null,null,{"$f":"入力フォーム!B22","v":0},null,null,null,null,null,null,null,null,null,null,null,null,null,null,null,null,{"$f":"入力フォーム!H22","v":0},null,null,null,null,{"$f":"入力フォーム!K22","v":0}]
[null,{"$f":"入力フォーム!A23","v":0},null,null,null,null,null,{"$f":"入力フォーム!B23","v":0},null,null,null,null,null,null,null,null,null,null,null,null,null,null,null,null,{"$f":"入力フォーム!H23","v":0},null,null,null,null,{"$f":"入力フォーム!K23","v":0}]
[null,{"$f":"入力フォーム!A24","v":0},null,null,null,null,null,{"$f":"入力フォーム!B24","v":0},null,null,null,null,null,null,null,null,null,null,null,null,null,null,null,null,{"$f":"入力フォーム!H24","v":0},null,null,null,null,{"$f":"入力フォーム!K24","v":0}]
[null,{"$f":"入力フォーム!A25","v":0},null,null,null,null,null,{"$f":"入力フォーム!B25","v":0},null,null,null,null,null,null,null,null,null,null,null,null,null,null,null,null,{"$f":"入力フォーム!H25","v":0},null,null,null,null,{"$f":"入力フォーム!K25","v":0}]
[null,{"$f":"入力フォーム!A26","v":0},null,null,null,null,null,{"$f":"入力フォーム!B26","v":0},null,null,null,null,null,null,null,null,null,null,null,null,null,null,null,null,{"$f":"入力フォーム!H26","v":0},null,null,null,null,{"$f":"入力フォーム!K26","v":0}]
[null,{"$f":"入力フォーム!A27","v":0},null,null,null,null,null,{"$f":"入力フォーム!B27","v":0},null,null,null,null,null,null,null,null,null,null,null,null,null,null,null,null,{"$f":"入力フォーム!H27","v":0},null,null,null,null,{"$f":"入力フォーム!K27","v":0}]
[null,{"$f":"入力フォーム!A28","v":0},null,null,null,null,null,{"$f":"入力フォーム!B28","v":0},null,null,null,null,null,null,null,null,null,null,null,null,null,null,null,null,{"$f":"入力フォーム!H28","v":0},null,null,null,null,{"$f":"入力フォーム!K28","v":0}]
[]
[null,"上記防水工事に関し、保証期間内に防水層から屋内への雨水浸入（漏水）が発生した場合、直ちに関係会社により原因調査を行い、施工上及び材料品質に起因する原因が確認された場合、当該防水層の修補を行います。　　　　　　但し裏面記載の免責事項に該当する場合や維持管理の不備による事故については保証の対象外と致します。"]
[]
[]
[null,"〔責任範囲〕防水工事施工業者は下請契約に基づく防水工事の保証。材料製造業者は標準防水仕様及び売買\n契約に基づく納入材料の品質保証。それぞれの区分により漏水に対して防水層の保証を行います。"]
[]
[]
[]
[null,"防水工事施工業者"]
[null,null,null,null,null,null,{"$f":"入力フォーム!B15&入力フォーム!C15","v":""}]
[null,null,null,null,null,null,{"$f":"入力フォーム!B14","v":0}]
[]
[null,null,null,null,null,null,{"$f":"入力フォーム!B16","v":0}]
[null,"材料製造業者"]
[null,null,null,null,null,null,{"$f":"'3社保証書'!G41:AF41","v":"東京都足立区千住東二丁目２３番４号"}]
[null,null,null,null,null,null,{"$f":"'3社保証書'!G42:AF42","v":"日新工業株式会社 関東営業所"}]
[null,null,null,null,null,null,{"$f":"'3社保証書'!G43:J43","v":"　所 長　"},null,null,null,{"$f":"'3社保証書'!K43:AF43","v":"堤　大作"}]
[null,null,null,null,null,null,null,null,null,null,null,null,null,null,null,null,null,null,null,null,null,null,null,null,null,null,null,null,"№2101001‐2"]
[null,null,null,null,null,null,null,null,null,null,null,null,null,null,null,null,null,null,null,null,null,null,null,null,null,null,null,null,"日新工業株式会社"]
["　免　責　事　項　"]
[null," 下記項目に起因する事象、維持管理を怠った事に起因する漏水事故並びに防水機能が保たれている場合は、本防水工事\n 保証書の保証対象外となります。尚、保証範囲は防水層から屋内に発生した漏水の修補に限定され、記載の無い事項は\n 施主と請負業者との工事請負契約書に依るものとします。"]
[]
[]
[null,"■天災"]
[null,"・地震、落雷、ひょう、台風、その他予見不可能な自然災害によるもの。"]
[null,"■外力"]
[null,"・事故、火災、その他人為的な破壊行為による防水層の損傷。"]
[null,"・構造または設計上に起因する防水層の損傷や不具合。"]
[null,"・大気汚染、付着物による汚染、飛来物等の物理的・化学的な外力及びその他不可抗力による損傷。"]
[null,"・建物内部から起因する防水層の損傷。"]
[null,"・重量物などを設置したことによる防水層の損傷。"]
[null,"・その他、上記に類する様な外的要因に起因する防水層の損傷。"]
[null,"■維持管理の不備・使用上の不注意"]
[null,"・本書記載の維持管理が遵守されなかった事に起因する防水層の損傷。"]
[null,"・植物の生育による防水層の損傷。"]
[null,"・常時防水層が浸水することや土砂堆積による防水層の損傷。"]
[null,"・ドレンの目詰まりによるオーバーフロー。"]
[null,"・薬品などの付着、鋭利な刃物や靴による防水層の損傷。"]
[null,"・その他、上記に類するような建物、屋上、設備等の維持管理に起因する防水層の損傷。"]
[null,"■防水機能が保たれているもの"]
[null,"・防水層に発生したふくれ及びしわ及びひび割れ。"]
[null,"・経年劣化による表面の変退色及び砂落ち。"]
[null,"・下地の不陸などにより防水層の上に発生する水溜まり。"]
[null,"・防水層表面に発生した微細な劣化。"]
[null,"・その他、直接漏水に繋がらない不具合。"]
[null,"■その他"]
[null,"・本書に防水施工業者などの記名・捺印がない場合。"]
[null,"・保証書の対象防水層を、本保証書の発行者以外の者が補修した場合。"]
[null,"  （増築や仕上塗料の塗布及び防水層端末部のシール打替えを含む）"]
[null,"・防水層端末部のシーリング材の劣化に起因する不具合。"]
[null,"・防水施工部位に異なる業者との接合部が生じた場合。"]
[null,"・防水施工部位の上に材料製造業者の指定する以外の仕上げ材を設置した事に起因する不具合。"]
[null,"・異種材料や他業者との取り合い部位など、それぞれの施工範囲外に起因する漏水は対象外。"]
[null,"・承認を受けたVE仕様に対して設計図書との不適合を理由とした請求の場合。"]
[null,"・建物の所有権が移転された場合に防水工事施工業者の承諾がない場合。"]
[null,"・現在の科学技術では予期不可能な事象に起因する不具合。"]
[null,"維 持 管 理 に 関 し て"]
[null,"・ドレンや側溝は最低でも1年に1回清掃し、土や落ち葉などのゴミは取り除いて下さい。（植栽箇所は、4回程度/年）"]
[null,"・防水層からの漏水を知った時から１年以内に請負業者に通知せず放置した場合は本保証書による保証の対象外となります。"]
[null,"・防水層の上で喫煙や火気類の使用は行わないで下さい。"]
[null,"・防水層に薬品類や塗料や溶剤をこぼすと変退色などを起こす可能性があります。"]
[null,"・清掃や雪下ろしをする際には、防水層を損傷する可能性がありますので、鋭利な道具を使用しないで下さい。"]
[null,"・防水層の上に直接植栽を設置する場合は、必ず耐根処理を行って下さい。"]
[null,"・仕上塗料を塗替える事で防水層の耐久性の向上が期待できる為、仕上塗料の塗替目安で塗替えを行う事を推奨します。（有償）"]
[null,"・仕上塗料塗替えを行う場合は、材料製造業者指定の物とし、必ず請負業者にご相談下さい。"]
[null,"・防水端末部のシール打替え（有償）を行う場合は、材料製造業者指定の物とし、必ず請負業者にご相談下さい。"]
[null,"・保証対象範囲の防水層の上に新規に何か設置を行う場合は必ず請負業者にご相談下さい。"]
[null,"・その他各工法のカタログ記載事項を遵守下さい。"]
[null,"調査に関して"]
[null,"保証期間中に、防水層の不具合に関して調査を依頼され、保証範囲に契約不適合が見受けられなかった場合、調査費用は発注者様のご負担とさせていただきます。"]

{"sheet":"２社保証書（なし）","index":5,"n_rows":91,"n_cols":29,"rows_kept":91,"cut":false,"hidden":false,"merged":[[0,0,0,32],[1,0,1,26],[1,27,1,32],[2,0,2,32],[5,0,5,32],[4,25,4,32],[3,0,3,24],[3,25,3,32],[4,0,4,24],[86,1,86,31],[87,1,87,31],[88,1,88,31],[89,1,89,31],[90,1,91,31],[10,28,10,31],[11,28,11,31],[12,28,12,31],[13,28,13,31],[14,28,14,31],[80,1,80,31],[81,1,81,31],[82,1,82,31],[83,1,83,31],[84,1,84,31],[85,1,85,31],[74,1,74,31],[75,1,75,31],[76,1,76,31],[77,1,77,31],[78,1,78,31],[79,1,79,31],[68,1,68,31],[69,1,69,31],[70,1,70,31],[71,1,71,31],[72,1,72,31],[73,1,73,31],[62,1,62,31],[63,1,63,31],[64,1,64,31],[65,1,65,31],[66,1,66,31],[67,1,67,31],[56,1,56,31],[57,1,57,31],[58,1,58,31],[59,1,59,31],[60,1,60,31],[61,1,61,31],[50,1,50,31],[51,1,51,31],[52,1,52,31],[53,1,53,31],[54,1,54,31],[55,1,55,31],[44,1,44,31],[45,1,45,31],[46,1,46,31],[47,1,47,31],[48,1,48,31],[49,1,49,31],[38,0,38,27],[38,28,38,32],[39,0,39,27],[39,28,39,32],[40,0,40,32],[41,1,43,31],[34,1,34,31],[35,1,35,5],[35,6,35,31],[36,1,36,5],[36,6,36,31],[37,1,37,5],[25,1,27,31],[28,0,28,32],[29,1,29,31],[30,1,33,5],[31,6,32,31],[33,6,33,31],[30,6,30,31],[37,6,37,9],[37,10,37,31],[20,1,20,6],[21,0,21,32],[22,1,24,31],[20,28,20,31],[18,1,18,6],[19,1,19,6],[18,28,18,31],[19,28,19,31],[16,1,16,6],[17,1,17,6],[16,28,16,31],[17,28,17,31],[17,7,17,27],[18,7,18,27],[19,7,19,27],[20,7,20,27],[16,7,16,27],[8,0,8,6],[6,0,6,6],[6,7,6,32],[7,0,7,6],[7,7,7,32],[8,7,8,32],[14,1,14,6],[15,1,15,6],[15,28,15,31],[12,1,12,6],[13,1,13,6],[9,0,9,32],[10,1,10,6],[11,1,11,6],[10,7,10,27],[11,7,11,27],[12,7,12,27],[13,7,13,27],[14,7,14,27],[15,7,15,27]]}
[{"$f":"入力フォーム!J48","v":0}]
["発行日",null,null,null,null,null,null,null,null,null,null,null,null,null,null,null,null,null,null,null,null,null,null,null,null,null,null,{"$f":"入力フォーム!K8","v":"00:00:00"}]
["防水工事保証書"]
[{"$f":"入力フォーム!B3","v":0}]
[{"$f":"入力フォーム!B4&\" \"&入力フォーム!K4","v":" "}]
[]
["工　事　名　称：",null,null,null,null,null,null,{"$f":"入力フォーム!B5","v":0}]
["所　　在　　地：",null,null,null,null,null,null,{"$f":"入力フォーム!B6&入力フォーム!C6","v":""}]
["保 証 開 始 日：",null,null,null,null,null,null,{"$f":"入力フォーム!B8&\" \"&入力フォーム!C8&入力フォーム!D8&入力フォーム!E8&入力フォーム!F8\n &入力フォーム!G8&入力フォーム!H8","v":" 年月日"}]
[]
[null,"施工部位",null,null,null,null,null,"防水工法・仕様",null,null,null,null,null,null,null,null,null,null,null,null,null,null,null,null,null,null,null,null,"保証年数"]
[null,{"$f":"入力フォーム!A19","v":0},null,null,null,null,null,{"$f":"入力フォーム!B19","v":0},null,null,null,null,null,null,null,null,null,null,null,null,null,null,null,null,null,null,null,null,{"$f":"入力フォーム!K19","v":0}]
[null,{"$f":"入力フォーム!A20","v":0},null,null,null,null,null,{"$f":"入力フォーム!B20","v":0},null,null,null,null,null,null,null,null,null,null,null,null,null,null,null,null,null,null,null,null,{"$f":"入力フォーム!K20","v":0}]
[null,{"$f":"入力フォーム!A21","v":0},null,null,null,null,null,{"$f":"入力フォーム!B21","v":0},null,null,null,null,null,null,null,null,null,null,null,null,null,null,null,null,null,null,null,null,{"$f":"入力フォーム!K21","v":0}]
[null,{"$f":"入力フォーム!A22","v":0},null,null,null,null,null,{"$f":"入力フォーム!B22","v":0},null,null,null,null,null,null,null,null,null,null,null,null,null,null,null,null,null,null,null,null,{"$f":"入力フォーム!K22","v":0}]
[null,{"$f":"入力フォーム!A23","v":0},null,null,null,null,null,{"$f":"入力フォーム!B23","v":0},null,null,null,null,null,null,null,null,null,null,null,null,null,null,null,null,null,null,null,null,{"$f":"入力フォーム!K23","v":0}]
[null,{"$f":"入力フォーム!A24","v":0},null,null,null,null,null,{"$f":"入力フォーム!B24","v":0},null,null,null,null,null,null,null,null,null,null,null,null,null,null,null,null,null,null,null,null,{"$f":"入力フォーム!K24","v":0}]
[null,{"$f":"入力フォーム!A25","v":0},null,null,null,null,null,{"$f":"入力フォーム!B25","v":0},null,null,null,null,null,null,null,null,null,null,null,null,null,null,null,null,null,null,null,null,{"$f":"入力フォーム!K25","v":0}]
[null,{"$f":"入力フォーム!A26","v":0},null,null,null,null,null,{"$f":"入力フォーム!B26","v":0},null,null,null,null,null,null,null,null,null,null,null,null,null,null,null,null,null,null,null,null,{"$f":"入力フォーム!K26","v":0}]
[null,{"$f":"入力フォーム!A27","v":0},null,null,null,null,null,{"$f":"入力フォーム!B27","v":0},null,null,null,null,null,null,null,null,null,null,null,null,null,null,null,null,null,null,null,null,{"$f":"入力フォーム!K27","v":0}]
[null,{"$f":"入力フォーム!A28","v":0},null,null,null,null,null,{"$f":"入力フォーム!B28","v":0},null,null,null,null,null,null,null,null,null,null,null,null,null,null,null,null,null,null,null,null,{"$f":"入力フォーム!K28","v":0}]
[]
[null,"上記防水工事に関し、保証期間内に防水層から屋内への雨水浸入（漏水）が発生した場合、直ちに関係会社により原因調査を行い、施工上及び材料品質に起因する原因が確認された場合、当該防水層の修補を行います。　　　　　　但し裏面記載の免責事項に該当する場合や維持管理の不備による事故については保証の対象外と致します。"]
[]
[]
[null,"〔責任範囲〕防水工事施工業者は下請契約に基づく防水工事の保証。材料製造業者は標準防水仕様及び売買\n契約に基づく納入材料の品質保証。それぞれの区分により漏水に対して防水層の保証を行います。"]
[]
[]
[]
[null,"防水工事施工業者"]
[null,null,null,null,null,null,{"$f":"入力フォーム!B15&入力フォーム!C15","v":""}]
[null,null,null,null,null,null,{"$f":"入力フォーム!B14","v":0}]
[]
[null,null,null,null,null,null,{"$f":"入力フォーム!B16","v":0}]
[null,"材料製造業者"]
[null,null,null,null,null,null,{"$f":"'3社保証書'!G41:AF41","v":"東京都足立区千住東二丁目２３番４号"}]
[null,null,null,null,null,null,{"$f":"'3社保証書'!G42:AF42","v":"日新工業株式会社 関東営業所"}]
[null,null,null,null,null,null,{"$f":"'3社保証書'!G43:J43","v":"　所 長　"},null,null,null,{"$f":"'3社保証書'!K43:AF43","v":"堤　大作"}]
[null,null,null,null,null,null,null,null,null,null,null,null,null,null,null,null,null,null,null,null,null,null,null,null,null,null,null,null,"№2101001‐2"]
[null,null,null,null,null,null,null,null,null,null,null,null,null,null,null,null,null,null,null,null,null,null,null,null,null,null,null,null,"日新工業株式会社"]
["　免　責　事　項　"]
[null," 下記項目に起因する事象、維持管理を怠った事に起因する漏水事故並びに防水機能が保たれている場合は、本防水工事\n 保証書の保証対象外となります。尚、保証範囲は防水層から屋内に発生した漏水の修補に限定され、記載の無い事項は\n 施主と請負業者との工事請負契約書に依るものとします。"]
[]
[]
[null,"■天災"]
[null,"・地震、落雷、ひょう、台風、その他予見不可能な自然災害によるもの。"]
[null,"■外力"]
[null,"・事故、火災、その他人為的な破壊行為による防水層の損傷。"]
[null,"・構造または設計上に起因する防水層の損傷や不具合。"]
[null,"・大気汚染、付着物による汚染、飛来物等の物理的・化学的な外力及びその他不可抗力による損傷。"]
[null,"・建物内部から起因する防水層の損傷。"]
[null,"・重量物などを設置したことによる防水層の損傷。"]
[null,"・その他、上記に類する様な外的要因に起因する防水層の損傷。"]
[null,"■維持管理の不備・使用上の不注意"]
[null,"・本書記載の維持管理が遵守されなかった事に起因する防水層の損傷。"]
[null,"・植物の生育による防水層の損傷。"]
[null,"・常時防水層が浸水することや土砂堆積による防水層の損傷。"]
[null,"・ドレンの目詰まりによるオーバーフロー。"]
[null,"・薬品などの付着、鋭利な刃物や靴による防水層の損傷。"]
[null,"・その他、上記に類するような建物、屋上、設備等の維持管理に起因する防水層の損傷。"]
[null,"■防水機能が保たれているもの"]
[null,"・防水層に発生したふくれ及びしわ及びひび割れ。"]
[null,"・経年劣化による表面の変退色及び砂落ち。"]
[null,"・下地の不陸などにより防水層の上に発生する水溜まり。"]
[null,"・防水層表面に発生した微細な劣化。"]
[null,"・その他、直接漏水に繋がらない不具合。"]
[null,"■その他"]
[null,"・本書に防水施工業者などの記名・捺印がない場合。"]
[null,"・保証書の対象防水層を、本保証書の発行者以外の者が補修した場合。"]
[null,"  （増築や仕上塗料の塗布及び防水層端末部のシール打替えを含む）"]
[null,"・防水層端末部のシーリング材の劣化に起因する不具合。"]
[null,"・防水施工部位に異なる業者との接合部が生じた場合。"]
[null,"・防水施工部位の上に材料製造業者の指定する以外の仕上げ材を設置した事に起因する不具合。"]
[null,"・異種材料や他業者との取り合い部位など、それぞれの施工範囲外に起因する漏水は対象外。"]
[null,"・承認を受けたVE仕様に対して設計図書との不適合を理由とした請求の場合。"]
[null,"・建物の所有権が移転された場合に防水工事施工業者の承諾がない場合。"]
[null,"・現在の科学技術では予期不可能な事象に起因する不具合。"]
[null,"維 持 管 理 に 関 し て"]
[null,"・ドレンや側溝は最低でも1年に1回清掃し、土や落ち葉などのゴミは取り除いて下さい。（植栽箇所は、4回程度/年）"]
[null,"・防水層からの漏水を知った時から１年以内に請負業者に通知せず放置した場合は本保証書による保証の対象外となります。"]
[null,"・防水層の上で喫煙や火気類の使用は行わないで下さい。"]
[null,"・防水層に薬品類や塗料や溶剤をこぼすと変退色などを起こす可能性があります。"]
[null,"・清掃や雪下ろしをする際には、防水層を損傷する可能性がありますので、鋭利な道具を使用しないで下さい。"]
[null,"・防水層の上に直接植栽を設置する場合は、必ず耐根処理を行って下さい。"]
[null,"・仕上塗料を塗替える事で防水層の耐久性の向上が期待できる為、仕上塗料の塗替目安で塗替えを行う事を推奨します。（有償）"]
[null,"・仕上塗料塗替えを行う場合は、材料製造業者指定の物とし、必ず請負業者にご相談下さい。"]
[null,"・防水端末部のシール打替え（有償）を行う場合は、材料製造業者指定の物とし、必ず請負業者にご相談下さい。"]
[null,"・保証対象範囲の防水層の上に新規に何か設置を行う場合は必ず請負業者にご相談下さい。"]
[null,"・その他各工法のカタログ記載事項を遵守下さい。"]
[null,"調査に関して"]
[null,"保証期間中に、防水層の不具合に関して調査を依頼され、保証範囲に契約不適合が見受けられなかった場合、調査費用は発注者様のご負担とさせていただきます。"]

{"sheet":"２社保証書（分割）","index":6,"n_rows":91,"n_cols":30,"rows_kept":91,"cut":false,"hidden":false,"merged":[[0,0,0,32],[1,0,1,26],[1,27,1,32],[2,0,2,32],[5,0,5,32],[4,25,4,32],[3,0,3,24],[3,25,3,32],[4,0,4,24],[8,0,8,6],[6,0,6,6],[6,7,6,32],[7,0,7,6],[7,7,7,32],[8,7,8,32],[9,0,9,32],[10,1,10,6],[10,7,10,17],[10,18,10,28],[10,29,10,31],[11,1,11,6],[11,7,11,17],[11,18,11,19],[11,20,11,23],[11,24,11,25],[11,26,11,28],[11,29,11,31],[12,1,12,6],[12,7,12,17],[12,18,12,19],[12,20,12,23],[12,24,12,25],[12,26,12,28],[12,29,12,31],[13,29,13,31],[14,1,14,6],[14,7,14,17],[14,18,14,19],[14,20,14,23],[14,24,14,25],[14,26,14,28],[14,29,14,31],[13,1,13,6],[13,7,13,17],[13,18,13,19],[13,20,13,23],[13,24,13,25],[13,26,13,28],[15,29,15,31],[16,1,16,6],[16,7,16,17],[16,18,16,19],[16,20,16,23],[16,24,16,25],[16,26,16,28],[16,29,16,31],[15,1,15,6],[15,7,15,17],[15,18,15,19],[15,20,15,23],[15,24,15,25],[15,26,15,28],[17,29,17,31],[18,1,18,6],[18,7,18,17],[18,18,18,19],[18,20,18,23],[18,24,18,25],[18,26,18,28],[18,29,18,31],[17,1,17,6],[17,7,17,17],[17,18,17,19],[17,20,17,23],[17,24,17,25],[17,26,17,28],[19,29,19,31],[20,1,20,6],[20,7,20,17],[20,18,20,19],[20,20,20,23],[20,24,20,25],[20,26,20,28],[20,29,20,31],[19,1,19,6],[19,7,19,17],[19,18,19,19],[19,20,19,23],[19,24,19,25],[19,26,19,28],[29,1,29,31],[30,1,33,5],[31,6,32,31],[33,6,33,31],[21,0,21,32],[22,1,24,31],[25,1,27,31],[28,0,28,32],[30,6,30,31],[38,0,38,27],[38,28,38,32],[39,0,39,27],[39,28,39,32],[40,0,40,32],[41,1,43,31],[34,1,34,31],[35,1,35,5],[35,6,35,31],[36,1,36,5],[36,6,36,31],[37,1,37,5],[37,6,37,9],[37,10,37,31],[50,1,50,31],[51,1,51,31],[52,1,52,31],[53,1,53,31],[54,1,54,31],[55,1,55,31],[44,1,44,31],[45,1,45,31],[46,1,46,31],[47,1,47,31],[48,1,48,31],[49,1,49,31],[62,1,62,31],[63,1,63,31],[64,1,64,31],[65,1,65,31],[66,1,66,31],[67,1,67,31],[56,1,56,31],[57,1,57,31],[58,1,58,31],[59,1,59,31],[60,1,60,31],[61,1,61,31],[74,1,74,31],[75,1,75,31],[76,1,76,31],[77,1,77,31],[78,1,78,31],[79,1,79,31],[68,1,68,31],[69,1,69,31],[70,1,70,31],[71,1,71,31],[72,1,72,31],[73,1,73,31],[86,1,86,31],[87,1,87,31],[88,1,88,31],[89,1,89,31],[90,1,91,31],[80,1,80,31],[81,1,81,31],[82,1,82,31],[83,1,83,31],[84,1,84,31],[85,1,85,31]]}
[{"$f":"入力フォーム!J48","v":0}]
["発行日",null,null,null,null,null,null,null,null,null,null,null,null,null,null,null,null,null,null,null,null,null,null,null,null,null,null,{"$f":"入力フォーム!K8","v":"00:00:00"}]
["防水工事保証書"]
[{"$f":"入力フォーム!B3","v":0}]
[{"$f":"入力フォーム!B4&\" \"&入力フォーム!K4","v":" "}]
[]
["工　事　名　称：",null,null,null,null,null,null,{"$f":"入力フォーム!B5","v":0}]
["所　　在　　地：",null,null,null,null,null,null,{"$f":"入力フォーム!B6&入力フォーム!C6","v":""}]
["保 証 開 始 日：",null,null,null,null,null,null,{"$f":"入力フォーム!B8&\" \"&入力フォーム!C8&入力フォーム!D8&入力フォーム!E8&入力フォーム!F8\n &入力フォーム!G8&入力フォーム!H8","v":" 年月日"}]
[]
[null,"施工部位",null,null,null,null,null,"防水工法・仕様",null,null,null,null,null,null,null,null,null,null,"面積・数量",null,null,null,null,null,null,null,null,null,null,"保証年数"]
[null,{"$f":"入力フォーム!A19","v":0},null,null,null,null,null,{"$f":"入力フォーム!B19","v":0},null,null,null,null,null,null,null,null,null,null,{"$f":"入力フォーム!G19","v":0},null,{"$f":"入力フォーム!H19","v":0},null,null,null,{"$f":"入力フォーム!I19","v":0},null,{"$f":"入力フォーム!J19","v":0},null,null,{"$f":"入力フォーム!K19","v":0}]
[null,{"$f":"入力フォーム!A20","v":0},null,null,null,null,null,{"$f":"入力フォーム!B20","v":0},null,null,null,null,null,null,null,null,null,null,{"$f":"入力フォーム!G20","v":0},null,{"$f":"入力フォーム!H20","v":0},null,null,null,{"$f":"入力フォーム!I20","v":0},null,{"$f":"入力フォーム!J20","v":0},null,null,{"$f":"入力フォーム!K20","v":0}]
[null,{"$f":"入力フォーム!A21","v":0},null,null,null,null,null,{"$f":"入力フォーム!B21","v":0},null,null,null,null,null,null,null,null,null,null,{"$f":"入力フォーム!G21","v":0},null,{"$f":"入力フォーム!H21","v":0},null,null,null,{"$f":"入力フォーム!I21","v":0},null,{"$f":"入力フォーム!J21","v":0},null,null,{"$f":"入力フォーム!K21","v":0}]
[null,{"$f":"入力フォーム!A22","v":0},null,null,null,null,null,{"$f":"入力フォーム!B22","v":0},null,null,null,null,null,null,null,null,null,null,{"$f":"入力フォーム!G22","v":0},null,{"$f":"入力フォーム!H22","v":0},null,null,null,{"$f":"入力フォーム!I22","v":0},null,{"$f":"入力フォーム!J22","v":0},null,null,{"$f":"入力フォーム!K22","v":0}]
[null,{"$f":"入力フォーム!A23","v":0},null,null,null,null,null,{"$f":"入力フォーム!B23","v":0},null,null,null,null,null,null,null,null,null,null,{"$f":"入力フォーム!G23","v":0},null,{"$f":"入力フォーム!H23","v":0},null,null,null,{"$f":"入力フォーム!I23","v":0},null,{"$f":"入力フォーム!J23","v":0},null,null,{"$f":"入力フォーム!K23","v":0}]
[null,{"$f":"入力フォーム!A24","v":0},null,null,null,null,null,{"$f":"入力フォーム!B24","v":0},null,null,null,null,null,null,null,null,null,null,{"$f":"入力フォーム!G24","v":0},null,{"$f":"入力フォーム!H24","v":0},null,null,null,{"$f":"入力フォーム!I24","v":0},null,{"$f":"入力フォーム!J24","v":0},null,null,{"$f":"入力フォーム!K24","v":0}]
[null,{"$f":"入力フォーム!A25","v":0},null,null,null,null,null,{"$f":"入力フォーム!B25","v":0},null,null,null,null,null,null,null,null,null,null,{"$f":"入力フォーム!G25","v":0},null,{"$f":"入力フォーム!H25","v":0},null,null,null,{"$f":"入力フォーム!I25","v":0},null,{"$f":"入力フォーム!J25","v":0},null,null,{"$f":"入力フォーム!K25","v":0}]
[null,{"$f":"入力フォーム!A26","v":0},null,null,null,null,null,{"$f":"入力フォーム!B26","v":0},null,null,null,null,null,null,null,null,null,null,{"$f":"入力フォーム!G26","v":0},null,{"$f":"入力フォーム!H26","v":0},null,null,null,{"$f":"入力フォーム!I26","v":0},null,{"$f":"入力フォーム!J26","v":0},null,null,{"$f":"入力フォーム!K26","v":0}]
[null,{"$f":"入力フォーム!A27","v":0},null,null,null,null,null,{"$f":"入力フォーム!B27","v":0},null,null,null,null,null,null,null,null,null,null,{"$f":"入力フォーム!G27","v":0},null,{"$f":"入力フォーム!H27","v":0},null,null,null,{"$f":"入力フォーム!I27","v":0},null,{"$f":"入力フォーム!J27","v":0},null,null,{"$f":"入力フォーム!K27","v":0}]
[null,{"$f":"入力フォーム!A28","v":0},null,null,null,null,null,{"$f":"入力フォーム!B28","v":0},null,null,null,null,null,null,null,null,null,null,{"$f":"入力フォーム!G28","v":0},null,{"$f":"入力フォーム!H28","v":0},null,null,null,{"$f":"入力フォーム!I28","v":0},null,{"$f":"入力フォーム!J28","v":0},null,null,{"$f":"入力フォーム!K28","v":0}]
[]
[null,"上記防水工事に関し、保証期間内に防水層から屋内への雨水浸入（漏水）が発生した場合、直ちに関係会社により原因調査を行い、施工上及び材料品質に起因する原因が確認された場合、当該防水層の修補を行います。　　　　　　但し裏面記載の免責事項に該当する場合や維持管理の不備による事故については保証の対象外と致します。"]
[]
[]
[null,"〔責任範囲〕防水工事施工業者は下請契約に基づく防水工事の保証。材料製造業者は標準防水仕様及び売買\n契約に基づく納入材料の品質保証。それぞれの区分により漏水に対して防水層の保証を行います。"]
[]
[]
[]
[null,"防水工事施工業者"]
[null,null,null,null,null,null,{"$f":"入力フォーム!B15&入力フォーム!C15","v":""}]
[null,null,null,null,null,null,{"$f":"入力フォーム!B14","v":0}]
[]
[null,null,null,null,null,null,{"$f":"入力フォーム!B16","v":0}]
[null,"材料製造業者"]
[null,null,null,null,null,null,{"$f":"'3社保証書'!G41:AF41","v":"東京都足立区千住東二丁目２３番４号"}]
[null,null,null,null,null,null,{"$f":"'3社保証書'!G42:AF42","v":"日新工業株式会社 関東営業所"}]
[null,null,null,null,null,null,{"$f":"'3社保証書'!G43:J43","v":"　所 長　"},null,null,null,{"$f":"'3社保証書'!K43:AF43","v":"堤　大作"}]
[null,null,null,null,null,null,null,null,null,null,null,null,null,null,null,null,null,null,null,null,null,null,null,null,null,null,null,null,"№2101001‐2"]
[null,null,null,null,null,null,null,null,null,null,null,null,null,null,null,null,null,null,null,null,null,null,null,null,null,null,null,null,"日新工業株式会社"]
["　免　責　事　項　"]
[null," 下記項目に起因する事象、維持管理を怠った事に起因する漏水事故並びに防水機能が保たれている場合は、本防水工事\n 保証書の保証対象外となります。尚、保証範囲は防水層から屋内に発生した漏水の修補に限定され、記載の無い事項は\n 施主と請負業者との工事請負契約書に依るものとします。"]
[]
[]
[null,"■天災"]
[null,"・地震、落雷、ひょう、台風、その他予見不可能な自然災害によるもの。"]
[null,"■外力"]
[null,"・事故、火災、その他人為的な破壊行為による防水層の損傷。"]
[null,"・構造または設計上に起因する防水層の損傷や不具合。"]
[null,"・大気汚染、付着物による汚染、飛来物等の物理的・化学的な外力及びその他不可抗力による損傷。"]
[null,"・建物内部から起因する防水層の損傷。"]
[null,"・重量物などを設置したことによる防水層の損傷。"]
[null,"・その他、上記に類する様な外的要因に起因する防水層の損傷。"]
[null,"■維持管理の不備・使用上の不注意"]
[null,"・本書記載の維持管理が遵守されなかった事に起因する防水層の損傷。"]
[null,"・植物の生育による防水層の損傷。"]
[null,"・常時防水層が浸水することや土砂堆積による防水層の損傷。"]
[null,"・ドレンの目詰まりによるオーバーフロー。"]
[null,"・薬品などの付着、鋭利な刃物や靴による防水層の損傷。"]
[null,"・その他、上記に類するような建物、屋上、設備等の維持管理に起因する防水層の損傷。"]
[null,"■防水機能が保たれているもの"]
[null,"・防水層に発生したふくれ及びしわ及びひび割れ。"]
[null,"・経年劣化による表面の変退色及び砂落ち。"]
[null,"・下地の不陸などにより防水層の上に発生する水溜まり。"]
[null,"・防水層表面に発生した微細な劣化。"]
[null,"・その他、直接漏水に繋がらない不具合。"]
[null,"■その他"]
[null,"・本書に防水施工業者などの記名・捺印がない場合。"]
[null,"・保証書の対象防水層を、本保証書の発行者以外の者が補修した場合。"]
[null,"  （増築や仕上塗料の塗布及び防水層端末部のシール打替えを含む）"]
[null,"・防水層端末部のシーリング材の劣化に起因する不具合。"]
[null,"・防水施工部位に異なる業者との接合部が生じた場合。"]
[null,"・防水施工部位の上に材料製造業者の指定する以外の仕上げ材を設置した事に起因する不具合。"]
[null,"・異種材料や他業者との取り合い部位など、それぞれの施工範囲外に起因する漏水は対象外。"]
[null,"・承認を受けたVE仕様に対して設計図書との不適合を理由とした請求の場合。"]
[null,"・建物の所有権が移転された場合に防水工事施工業者の承諾がない場合。"]
[null,"・現在の科学技術では予期不可能な事象に起因する不具合。"]
[null,"維 持 管 理 に 関 し て"]
[null,"・ドレンや側溝は最低でも1年に1回清掃し、土や落ち葉などのゴミは取り除いて下さい。（植栽箇所は、4回程度/年）"]
[null,"・防水層からの漏水を知った時から１年以内に請負業者に通知せず放置した場合は本保証書による保証の対象外となります。"]
[null,"・防水層の上で喫煙や火気類の使用は行わないで下さい。"]
[null,"・防水層に薬品類や塗料や溶剤をこぼすと変退色などを起こす可能性があります。"]
[null,"・清掃や雪下ろしをする際には、防水層を損傷する可能性がありますので、鋭利な道具を使用しないで下さい。"]
[null,"・防水層の上に直接植栽を設置する場合は、必ず耐根処理を行って下さい。"]
[null,"・仕上塗料を塗替える事で防水層の耐久性の向上が期待できる為、仕上塗料の塗替目安で塗替えを行う事を推奨します。（有償）"]
[null,"・仕上塗料塗替えを行う場合は、材料製造業者指定の物とし、必ず請負業者にご相談下さい。"]
[null,"・防水端末部のシール打替え（有償）を行う場合は、材料製造業者指定の物とし、必ず請負業者にご相談下さい。"]
[null,"・保証対象範囲の防水層の上に新規に何か設置を行う場合は必ず請負業者にご相談下さい。"]
[null,"・その他各工法のカタログ記載事項を遵守下さい。"]
[null,"調査に関して"]
[null,"保証期間中に、防水層の不具合に関して調査を依頼され、保証範囲に契約不適合が見受けられなかった場合、調査費用は発注者様のご負担とさせていただきます。"]

{"sheet":"発行依頼書","index":7,"n_rows":47,"n_cols":12,"rows_kept":47,"cut":false,"hidden":false,"merged":[[4,0,4,5],[0,0,0,12],[1,0,1,12],[2,0,2,12],[3,0,3,5],[3,6,3,12],[4,6,4,12],[8,0,8,12],[9,1,9,12],[11,1,11,12],[12,1,12,12],[14,1,14,12],[10,1,10,12],[13,1,13,8],[13,10,13,12],[5,0,5,5],[5,6,5,12],[6,0,6,5],[6,6,6,12],[7,0,7,5],[7,6,7,12],[26,1,26,4],[26,5,26,7],[26,8,26,12],[20,0,21,0],[20,1,20,12],[21,1,21,12],[23,0,23,12],[24,1,24,12],[22,2,22,12],[31,11,31,12],[32,11,32,12],[31,9,31,10],[32,9,32,10],[27,0,27,12],[29,11,29,12],[30,11,30,12],[29,9,29,10],[30,9,30,10],[29,1,29,8],[30,1,30,8],[31,1,31,8],[32,1,32,8],[28,0,28,12],[36,1,36,8],[33,11,33,12],[34,11,34,12],[33,9,33,10],[34,9,34,10],[34,1,34,8],[35,11,35,12],[36,11,36,12],[35,9,35,10],[36,9,36,10],[35,1,35,8],[33,1,33,8],[46,1,46,4],[46,5,46,6],[46,7,46,12],[39,11,39,12],[40,0,40,12],[41,1,41,12],[39,9,39,10],[39,1,39,8],[43,1,43,4],[43,5,43,6],[43,7,43,12],[44,1,44,12],[42,1,42,12],[45,1,45,12],[37,11,37,12],[38,11,38,12],[37,9,37,10],[38,9,38,10],[37,1,37,8],[38,1,38,8],[15,1,15,8],[17,1,17,8],[25,1,25,8],[25,10,25,12],[15,10,15,12],[16,1,16,12],[17,10,17,12],[19,7,19,12],[18,0,18,12]]}
[{"$f":"入力フォーム!J48","v":0}]
["防水工事保証書発行依頼書"]
["日新工業株式会社　御中"]
["依頼者：",null,null,null,null,null,{"$f":"IF(入力フォーム!B30=\"\",入力フォーム!B14,入力フォーム!B30)","v":0}]
["住　所：",null,null,null,null,null,{"$f":"IF(入力フォーム!B31=\"\",入力フォーム!B15&入力フォーム!C15,入力フォーム!B31&入力フォーム!C31)","v":""}]
["担当者：",null,null,null,null,null,{"$f":"IF(入力フォーム!B32=\"\",入力フォーム!B16,入力フォーム!B32)","v":0}]
["連絡先：",null,null,null,null,null,{"$f":"IF(入力フォーム!J32=\"\",入力フォーム!J16,入力フォーム!J32)","v":0}]
["依頼日：",null,null,null,null,null,{"$f":"入力フォーム!B33","v":"2023-03-06"}]
[]
["工　事　名　称：",{"$f":"入力フォーム!B5","v":0}]
["現　場　住　所：",{"$f":"入力フォーム!B6&入力フォーム!C6","v":""}]
["設  計  事  務  所：",{"$f":"入力フォーム!B7","v":0}]
["工事請負業者名：",{"$f":"入力フォーム!B10","v":0}]
["所　　在　　地：",{"$f":"入力フォーム!B11&入力フォーム!C11","v":""},null,null,null,null,null,null,null,"連絡先",{"$f":"入力フォーム!J12","v":0}]
["防水施工業者名：",{"$f":"入力フォーム!B14","v":0}]
["所　　在　　地：",{"$f":"入力フォーム!B15&入力フォーム!C15","v":""},null,null,null,null,null,null,null,"連絡先",{"$f":"入力フォーム!J16","v":0}]
["材料購入会社名：",{"$f":"入力フォーム!B41","v":0}]
["所　　在　　地：",{"$f":"入力フォーム!B42&入力フォーム!C42","v":""},null,null,null,null,null,null,null,"担当者",{"$f":"入力フォーム!B43","v":0}]
[]
["保  証  開  始  日：",{"$f":"入力フォーム!B8","v":0},{"$f":"入力フォーム!C8","v":0},"年",{"$f":"入力フォーム!E8","v":0},"月",{"$f":"入力フォーム!G8","v":0},"日"]
["保  証  書  宛  先：",{"$f":"入力フォーム!B3","v":0}]
[null,{"$f":"入力フォーム!B4","v":0}]
["発　行　部　数：",{"$f":"入力フォーム!K33","v":0},"部"]
[]
["発送先　会社名：",{"$f":"入力フォーム!B45","v":0}]
["住　所：",{"$f":"入力フォーム!B46&入力フォーム!C46","v":""},null,null,null,null,null,null,null,"連絡先",{"$f":"入力フォーム!J47","v":0}]
["担当者：",{"$f":"入力フォーム!B47","v":0},null,null,null,"到着希望日",null,null,{"$f":"入力フォーム!G33","v":"00:00:00"}]
[]
["保証依頼内容"]
["施工部位","工法・仕様名",null,null,null,null,null,null,null,"面積・数量",null,"保証年数"]
[{"$f":"入力フォーム!A19","v":0},{"$f":"入力フォーム!B19","v":0},null,null,null,null,null,null,null,{"$f":"入力フォーム!H19","v":0},null,{"$f":"入力フォーム!K19","v":0}]
[{"$f":"入力フォーム!A20","v":0},{"$f":"入力フォーム!B20","v":0},null,null,null,null,null,null,null,{"$f":"入力フォーム!H20","v":0},null,{"$f":"入力フォーム!K20","v":0}]
[{"$f":"入力フォーム!A21","v":0},{"$f":"入力フォーム!B21","v":0},null,null,null,null,null,null,null,{"$f":"入力フォーム!H21","v":0},null,{"$f":"入力フォーム!K21","v":0}]
[{"$f":"入力フォーム!A22","v":0},{"$f":"入力フォーム!B22","v":0},null,null,null,null,null,null,null,{"$f":"入力フォーム!H22","v":0},null,{"$f":"入力フォーム!K22","v":0}]
[{"$f":"入力フォーム!A23","v":0},{"$f":"入力フォーム!B23","v":0},null,null,null,null,null,null,null,{"$f":"入力フォーム!H23","v":0},null,{"$f":"入力フォーム!K23","v":0}]
[{"$f":"入力フォーム!A24","v":0},{"$f":"入力フォーム!B24","v":0},null,null,null,null,null,null,null,{"$f":"入力フォーム!H24","v":0},null,{"$f":"入力フォーム!K24","v":0}]
[{"$f":"入力フォーム!A25","v":0},{"$f":"入力フォーム!B25","v":0},null,null,null,null,null,null,null,{"$f":"入力フォーム!H25","v":0},null,{"$f":"入力フォーム!K25","v":0}]
[{"$f":"入力フォーム!A26","v":0},{"$f":"入力フォーム!B26","v":0},null,null,null,null,null,null,null,{"$f":"入力フォーム!H26","v":0},null,{"$f":"入力フォーム!K26","v":0}]
[{"$f":"入力フォーム!A27","v":0},{"$f":"入力フォーム!B27","v":0},null,null,null,null,null,null,null,{"$f":"入力フォーム!H27","v":0},null,{"$f":"入力フォーム!K27","v":0}]
[{"$f":"入力フォーム!A28","v":0},{"$f":"入力フォーム!B28","v":0},null,null,null,null,null,null,null,{"$f":"入力フォーム!H28","v":0},null,{"$f":"入力フォーム!K28","v":0}]
[]
["業者情報 ②会社名：",{"$f":"入力フォーム!B34","v":0}]
["住　所：",{"$f":"入力フォーム!B35&入力フォーム!C35","v":""}]
["担当者：",{"$f":"入力フォーム!B36","v":0},null,null,null,"連絡先",null,{"$f":"入力フォーム!J36","v":0}]
["　③会社名：",{"$f":"入力フォーム!B37","v":0}]
["住　所：",{"$f":"入力フォーム!B38&入力フォーム!C38","v":""}]
["担当者：",{"$f":"入力フォーム!B39","v":0},null,null,null,"連絡先",null,{"$f":"入力フォーム!J39","v":0}]

{"sheet":"発行依頼書（なし）","index":8,"n_rows":47,"n_cols":12,"rows_kept":47,"cut":false,"hidden":false,"merged":[[4,0,4,5],[0,0,0,12],[1,0,1,12],[2,0,2,12],[3,0,3,5],[3,6,3,12],[4,6,4,12],[8,0,8,12],[9,1,9,12],[11,1,11,12],[12,1,12,12],[14,1,14,12],[10,1,10,12],[13,1,13,8],[13,10,13,12],[5,0,5,5],[5,6,5,12],[6,0,6,5],[6,6,6,12],[7,0,7,5],[7,6,7,12],[26,1,26,4],[26,5,26,7],[26,8,26,12],[20,0,21,0],[20,1,20,12],[21,1,21,12],[23,0,23,12],[24,1,24,12],[22,2,22,12],[33,11,33,12],[34,11,34,12],[31,11,31,12],[32,11,32,12],[27,0,27,12],[29,11,29,12],[30,11,30,12],[29,1,29,10],[30,1,30,10],[31,1,31,10],[32,1,32,10],[33,1,33,10],[34,1,34,10],[28,0,28,12],[46,1,46,4],[46,5,46,6],[46,7,46,12],[39,11,39,12],[40,0,40,12],[41,1,41,12],[39,1,39,10],[45,1,45,12],[35,1,35,10],[43,1,43,4],[43,5,43,6],[43,7,43,12],[44,1,44,12],[37,11,37,12],[38,11,38,12],[37,1,37,10],[38,1,38,10],[35,11,35,12],[36,11,36,12],[36,1,36,10],[42,1,42,12],[15,1,15,8],[17,1,17,8],[25,1,25,8],[25,10,25,12],[15,10,15,12],[16,1,16,12],[17,10,17,12],[19,7,19,12],[18,0,18,12]]}
[{"$f":"入力フォーム!J48","v":0}]
["防水工事保証書発行依頼書"]
["日新工業株式会社　御中"]
["依頼者：",null,null,null,null,null,{"$f":"IF(入力フォーム!B30=\"\",入力フォーム!B14,入力フォーム!B30)","v":0}]
["住　所：",null,null,null,null,null,{"$f":"IF(入力フォーム!B31=\"\",入力フォーム!B15&入力フォーム!C15,入力フォーム!B31&入力フォーム!C31)","v":""}]
["担当者：",null,null,null,null,null,{"$f":"IF(入力フォーム!B32=\"\",入力フォーム!B16,入力フォーム!B32)","v":0}]
["連絡先：",null,null,null,null,null,{"$f":"IF(入力フォーム!J32=\"\",入力フォーム!J16,入力フォーム!J32)","v":0}]
["依頼日：",null,null,null,null,null,{"$f":"入力フォーム!B33","v":"2023-03-06"}]
[]
["工　事　名　称：",{"$f":"入力フォーム!B5","v":0}]
["現　場　住　所：",{"$f":"入力フォーム!B6&入力フォーム!C6","v":""}]
["設  計  事  務  所：",{"$f":"入力フォーム!B7","v":0}]
["工事請負業者名：",{"$f":"入力フォーム!B10","v":0}]
["所　　在　　地：",{"$f":"入力フォーム!B11&入力フォーム!C11","v":""},null,null,null,null,null,null,null,"連絡先",{"$f":"入力フォーム!J12","v":0}]
["防水施工業者名：",{"$f":"入力フォーム!B14","v":0}]
["所　　在　　地：",{"$f":"入力フォーム!B15&入力フォーム!C15","v":""},null,null,null,null,null,null,null,"連絡先",{"$f":"入力フォーム!J16","v":0}]
["材料購入会社名：",{"$f":"入力フォーム!B41","v":0}]
["所　　在　　地：",{"$f":"入力フォーム!B42&入力フォーム!C42","v":""},null,null,null,null,null,null,null,"担当者",{"$f":"入力フォーム!B43","v":0}]
[]
["保  証  開  始  日：",{"$f":"入力フォーム!B8","v":0},{"$f":"入力フォーム!C8","v":0},"年",{"$f":"入力フォーム!E8","v":0},"月",{"$f":"入力フォーム!G8","v":0},"日"]
["保  証  書  宛  先：",{"$f":"入力フォーム!B3","v":0}]
[null,{"$f":"入力フォーム!B4","v":0}]
["発　行　部　数：",{"$f":"入力フォーム!K33","v":0},"部"]
[]
["発送先　会社名：",{"$f":"入力フォーム!B45","v":0}]
["住　所：",{"$f":"入力フォーム!B46&入力フォーム!C46","v":""},null,null,null,null,null,null,null,"連絡先",{"$f":"入力フォーム!J47","v":0}]
["担当者：",{"$f":"入力フォーム!B47","v":0},null,null,null,"到着希望日",null,null,{"$f":"入力フォーム!G33","v":"00:00:00"}]
[]
["保証依頼内容"]
["施工部位","工法・仕様名",null,null,null,null,null,null,null,null,null,"保証年数"]
[{"$f":"入力フォーム!A19","v":0},{"$f":"入力フォーム!B19","v":0},null,null,null,null,null,null,null,null,null,{"$f":"入力フォーム!K19","v":0}]
[{"$f":"入力フォーム!A20","v":0},{"$f":"入力フォーム!B20","v":0},null,null,null,null,null,null,null,null,null,{"$f":"入力フォーム!K20","v":0}]
[{"$f":"入力フォーム!A21","v":0},{"$f":"入力フォーム!B21","v":0},null,null,null,null,null,null,null,null,null,{"$f":"入力フォーム!K21","v":0}]
[{"$f":"入力フォーム!A22","v":0},{"$f":"入力フォーム!B22","v":0},null,null,null,null,null,null,null,null,null,{"$f":"入力フォーム!K22","v":0}]
[{"$f":"入力フォーム!A23","v":0},{"$f":"入力フォーム!B23","v":0},null,null,null,null,null,null,null,null,null,{"$f":"入力フォーム!K23","v":0}]
[{"$f":"入力フォーム!A24","v":0},{"$f":"入力フォーム!B24","v":0},null,null,null,null,null,null,null,null,null,{"$f":"入力フォーム!K24","v":0}]
[{"$f":"入力フォーム!A25","v":0},{"$f":"入力フォーム!B25","v":0},null,null,null,null,null,null,null,null,null,{"$f":"入力フォーム!K25","v":0}]
[{"$f":"入力フォーム!A26","v":0},{"$f":"入力フォーム!B26","v":0},null,null,null,null,null,null,null,null,null,{"$f":"入力フォーム!K26","v":0}]
[{"$f":"入力フォーム!A27","v":0},{"$f":"入力フォーム!B27","v":0},null,null,null,null,null,null,null,null,null,{"$f":"入力フォーム!K27","v":0}]
[{"$f":"入力フォーム!A28","v":0},{"$f":"入力フォーム!B28","v":0},null,null,null,null,null,null,null,null,null,{"$f":"入力フォーム!K28","v":0}]
[]
["業者情報 ②会社名：",{"$f":"入力フォーム!B34","v":0}]
["住　所：",{"$f":"入力フォーム!B35&入力フォーム!C35","v":""}]
["担当者：",{"$f":"入力フォーム!B36","v":0},null,null,null,"連絡先",null,{"$f":"入力フォーム!J36","v":0}]
["　③会社名：",{"$f":"入力フォーム!B37","v":0}]
["住　所：",{"$f":"入力フォーム!B38&入力フォーム!C38","v":""}]
["担当者：",{"$f":"入力フォーム!B39","v":0},null,null,null,"連絡先",null,{"$f":"入力フォーム!J39","v":0}]

{"sheet":"発行依頼書（分割）","index":9,"n_rows":47,"n_cols":12,"rows_kept":47,"cut":false,"hidden":false,"merged":[[18,0,18,12],[28,0,28,12],[15,10,15,12],[17,10,17,12],[19,7,19,12],[24,1,24,12],[0,0,0,12],[1,0,1,12],[5,6,5,12],[6,6,6,12],[7,6,7,12],[3,6,3,12],[2,0,2,12],[4,0,4,5],[5,0,5,5],[3,0,3,5],[6,0,6,5],[7,0,7,5],[4,6,4,12],[36,11,36,12],[37,11,37,12],[38,11,38,12],[39,11,39,12],[30,7,30,8],[31,7,31,8],[32,7,32,8],[33,7,33,8],[34,7,34,8],[35,7,35,8],[30,11,30,12],[31,11,31,12],[32,11,32,12],[33,11,33,12],[34,11,34,12],[35,11,35,12],[36,1,36,5],[37,1,37,5],[38,1,38,5],[39,1,39,5],[36,7,36,8],[37,7,37,8],[38,7,38,8],[39,7,39,8],[34,1,34,5],[35,1,35,5],[29,6,29,10],[29,1,29,5],[30,1,30,5],[31,1,31,5],[32,1,32,5],[33,1,33,5],[29,11,29,12],[27,0,27,12],[20,1,20,12],[26,1,26,4],[26,5,26,7],[26,8,26,12],[25,10,25,12],[23,0,23,12],[22,2,22,12],[25,1,25,8],[21,1,21,12],[20,0,21,0],[43,1,43,4],[40,0,40,12],[43,5,43,6],[43,7,43,12],[41,1,41,12],[42,1,42,12],[44,1,44,12],[46,1,46,4],[46,5,46,6],[46,7,46,12],[45,1,45,12],[10,1,10,12],[13,1,13,8],[15,1,15,8],[17,1,17,8],[8,0,8,12],[11,1,11,12],[12,1,12,12],[14,1,14,12],[9,1,9,12],[13,10,13,12],[16,1,16,12]]}
[{"$f":"入力フォーム!J48","v":0}]
["防水工事保証書発行依頼書"]
["日新工業株式会社　御中"]
["依頼者：",null,null,null,null,null,{"$f":"IF(入力フォーム!B30=\"\",入力フォーム!B14,入力フォーム!B30)","v":0}]
["住　所：",null,null,null,null,null,{"$f":"IF(入力フォーム!B31=\"\",入力フォーム!B15&入力フォーム!C15,入力フォーム!B31&入力フォーム!C31)","v":""}]
["担当者：",null,null,null,null,null,{"$f":"IF(入力フォーム!B32=\"\",入力フォーム!B16,入力フォーム!B32)","v":0}]
["連絡先：",null,null,null,null,null,{"$f":"IF(入力フォーム!J32=\"\",入力フォーム!J16,入力フォーム!J32)","v":0}]
["依頼日：",null,null,null,null,null,{"$f":"入力フォーム!B33","v":"2023-03-06"}]
[]
["工　事　名　称：",{"$f":"入力フォーム!B5","v":0}]
["現　場　住　所：",{"$f":"入力フォーム!B6&入力フォーム!C6","v":""}]
["設  計  事  務  所：",{"$f":"入力フォーム!B7","v":0}]
["工事請負業者名：",{"$f":"入力フォーム!B10","v":0}]
["所　　在　　地：",{"$f":"入力フォーム!B11&入力フォーム!C11","v":""},null,null,null,null,null,null,null,"連絡先",{"$f":"入力フォーム!J12","v":0}]
["防水施工業者名：",{"$f":"入力フォーム!B14","v":0}]
["所　　在　　地：",{"$f":"入力フォーム!B15&入力フォーム!C15","v":""},null,null,null,null,null,null,null,"連絡先",{"$f":"入力フォーム!J16","v":0}]
["材料購入会社名：",{"$f":"入力フォーム!B41","v":0}]
["所　　在　　地：",{"$f":"入力フォーム!B42&入力フォーム!C42","v":""},null,null,null,null,null,null,null,"担当者",{"$f":"入力フォーム!B43","v":0}]
[]
["保  証  開  始  日：",{"$f":"入力フォーム!B8","v":0},{"$f":"入力フォーム!C8","v":0},"年",{"$f":"入力フォーム!E8","v":0},"月",{"$f":"入力フォーム!G8","v":0},"日"]
["保  証  書  宛  先：",{"$f":"入力フォーム!B3","v":0}]
[null,{"$f":"入力フォーム!B4","v":0}]
["発　行　部　数：",{"$f":"入力フォーム!K33","v":0},"部"]
[]
["発送先　会社名：",{"$f":"入力フォーム!B45","v":0}]
["住　所：",{"$f":"入力フォーム!B46&入力フォーム!C46","v":""},null,null,null,null,null,null,null,"連絡先",{"$f":"入力フォーム!J47","v":0}]
["担当者：",{"$f":"入力フォーム!B47","v":0},null,null,null,"到着希望日",null,null,{"$f":"入力フォーム!G33","v":"00:00:00"}]
[]
["保証依頼内容"]
["施工部位","工法・仕様名",null,null,null,null,"面積・数量",null,null,null,null,"保証年数"]
[{"$f":"入力フォーム!A19","v":0},{"$f":"入力フォーム!B19","v":0},null,null,null,null,{"$f":"入力フォーム!G19","v":0},{"$f":"入力フォーム!H19","v":0},null,{"$f":"入力フォーム!I19","v":0},{"$f":"入力フォーム!J19","v":0},{"$f":"入力フォーム!K19","v":0}]
[{"$f":"入力フォーム!A20","v":0},{"$f":"入力フォーム!B20","v":0},null,null,null,null,{"$f":"入力フォーム!G20","v":0},{"$f":"入力フォーム!H20","v":0},null,{"$f":"入力フォーム!I20","v":0},{"$f":"入力フォーム!J20","v":0},{"$f":"入力フォーム!K20","v":0}]
[{"$f":"入力フォーム!A21","v":0},{"$f":"入力フォーム!B21","v":0},null,null,null,null,{"$f":"入力フォーム!G21","v":0},{"$f":"入力フォーム!H21","v":0},null,{"$f":"入力フォーム!I21","v":0},{"$f":"入力フォーム!J21","v":0},{"$f":"入力フォーム!K21","v":0}]
[{"$f":"入力フォーム!A22","v":0},{"$f":"入力フォーム!B22","v":0},null,null,null,null,{"$f":"入力フォーム!G22","v":0},{"$f":"入力フォーム!H22","v":0},null,{"$f":"入力フォーム!I22","v":0},{"$f":"入力フォーム!J22","v":0},{"$f":"入力フォーム!K22","v":0}]
[{"$f":"入力フォーム!A23","v":0},{"$f":"入力フォーム!B23","v":0},null,null,null,null,{"$f":"入力フォーム!G23","v":0},{"$f":"入力フォーム!H23","v":0},null,{"$f":"入力フォーム!I23","v":0},{"$f":"入力フォーム!J23","v":0},{"$f":"入力フォーム!K23","v":0}]
[{"$f":"入力フォーム!A24","v":0},{"$f":"入力フォーム!B24","v":0},null,null,null,null,{"$f":"入力フォーム!G24","v":0},{"$f":"入力フォーム!H24","v":0},null,{"$f":"入力フォーム!I24","v":0},{"$f":"入力フォーム!J24","v":0},{"$f":"入力フォーム!K24","v":0}]
[{"$f":"入力フォーム!A25","v":0},{"$f":"入力フォーム!B25","v":0},null,null,null,null,{"$f":"入力フォーム!G25","v":0},{"$f":"入力フォーム!H25","v":0},null,{"$f":"入力フォーム!I25","v":0},{"$f":"入力フォーム!J25","v":0},{"$f":"入力フォーム!K25","v":0}]
[{"$f":"入力フォーム!A26","v":0},{"$f":"入力フォーム!B26","v":0},null,null,null,null,{"$f":"入力フォーム!G26","v":0},{"$f":"入力フォーム!H26","v":0},null,{"$f":"入力フォーム!I26","v":0},{"$f":"入力フォーム!J26","v":0},{"$f":"入力フォーム!K26","v":0}]
[{"$f":"入力フォーム!A27","v":0},{"$f":"入力フォーム!B27","v":0},null,null,null,null,{"$f":"入力フォーム!G27","v":0},{"$f":"入力フォーム!H27","v":0},null,{"$f":"入力フォーム!I27","v":0},{"$f":"入力フォーム!J27","v":0},{"$f":"入力フォーム!K27","v":0}]
[{"$f":"入力フォーム!A28","v":0},{"$f":"入力フォーム!B28","v":0},null,null,null,null,{"$f":"入力フォーム!G28","v":0},{"$f":"入力フォーム!H28","v":0},null,{"$f":"入力フォーム!I28","v":0},{"$f":"入力フォーム!J28","v":0},{"$f":"入力フォーム!K28","v":0}]
[]
["業者情報 ②会社名：",{"$f":"入力フォーム!B34","v":0}]
["住　所：",{"$f":"入力フォーム!B35&入力フォーム!C35","v":""}]
["担当者：",{"$f":"入力フォーム!B36","v":0},null,null,null,"連絡先",null,{"$f":"入力フォーム!J36","v":0}]
["　③会社名：",{"$f":"入力フォーム!B37","v":0}]
["住　所：",{"$f":"入力フォーム!B38&入力フォーム!C38","v":""}]
["担当者：",{"$f":"入力フォーム!B39","v":0},null,null,null,"連絡先",null,{"$f":"入力フォーム!J39","v":0}]

{"sheet":"定型外保証書捺印依頼書","index":10,"n_rows":59,"n_cols":12,"rows_kept":59,"cut":false,"hidden":false,"merged":[[18,0,18,12],[8,0,8,12],[59,0,81,12],[39,0,39,12],[40,0,40,12],[27,0,27,12],[28,0,28,12],[37,0,37,12],[38,0,38,12],[29,0,29,12],[31,0,31,12],[32,0,32,12],[33,0,33,12],[30,0,30,12],[34,0,34,12],[35,0,35,12],[36,0,36,12],[50,1,50,8],[50,9,50,10],[50,11,50,12],[58,1,58,4],[58,5,58,6],[58,7,58,12],[51,1,51,8],[51,9,51,10],[51,11,51,12],[52,0,52,12],[53,1,53,12],[55,1,55,4],[55,5,55,6],[55,7,55,12],[56,1,56,12],[48,1,48,8],[48,9,48,10],[48,11,48,12],[49,1,49,8],[49,9,49,10],[49,11,49,12],[46,1,46,8],[46,9,46,10],[46,11,46,12],[47,1,47,8],[47,9,47,10],[47,11,47,12],[44,1,44,8],[44,9,44,10],[44,11,44,12],[45,1,45,8],[45,9,45,10],[45,11,45,12],[42,1,42,8],[42,9,42,10],[42,11,42,12],[43,1,43,8],[43,9,43,10],[43,11,43,12],[20,0,21,0],[20,1,20,12],[21,1,21,12],[23,0,23,12],[24,1,24,12],[22,2,22,12],[9,1,9,12],[11,1,11,12],[12,1,12,12],[13,10,13,12],[14,1,14,12],[10,1,10,12],[13,1,13,8],[5,0,5,5],[5,6,5,12],[6,0,6,5],[6,6,6,12],[7,0,7,5],[7,6,7,12],[4,0,4,5],[0,0,0,12],[1,0,1,12],[2,0,2,12],[3,0,3,5],[3,6,3,12],[4,6,4,12],[15,1,15,8],[17,1,17,8],[25,1,25,8],[54,1,54,12],[57,1,57,12],[19,7,19,12],[15,10,15,12],[16,1,16,12],[17,10,17,12],[25,10,25,12],[26,1,26,4],[26,5,26,7],[26,8,26,12],[41,1,41,8],[41,9,41,10],[41,11,41,12]]}
[{"$f":"入力フォーム!J48","v":0}]
["防水工事保証書（定型外）捺印依頼書"]
["日新工業株式会社　御中"]
["依頼者：",null,null,null,null,null,{"$f":"IF(入力フォーム!B30=\"\",入力フォーム!B14,入力フォーム!B30)","v":0}]
["住　所：",null,null,null,null,null,{"$f":"IF(入力フォーム!B31=\"\",入力フォーム!B15&入力フォーム!C15,入力フォーム!B31&入力フォーム!C31)","v":""}]
["担当者：",null,null,null,null,null,{"$f":"IF(入力フォーム!B32=\"\",入力フォーム!B16,入力フォーム!B32)","v":0}]
["連絡先：",null,null,null,null,null,{"$f":"IF(入力フォーム!J32=\"\",入力フォーム!J16,入力フォーム!J32)","v":0}]
["依頼日：",null,null,null,null,null,{"$f":"入力フォーム!B33","v":"2023-03-06"}]
[]
["工　事　名　称：",{"$f":"入力フォーム!B5","v":0}]
["現　場　住　所：",{"$f":"入力フォーム!B6&入力フォーム!C6","v":""}]
["設  計  事  務  所：",{"$f":"入力フォーム!B7","v":0}]
["工事請負業者名：",{"$f":"入力フォーム!B10","v":0}]
["所　　在　　地：",{"$f":"入力フォーム!B11&入力フォーム!C11","v":""},null,null,null,null,null,null,null,"連絡先",{"$f":"入力フォーム!J12","v":0}]
["防水施工業者名：",{"$f":"入力フォーム!B14","v":0}]
["所　　在　　地：",{"$f":"入力フォーム!B15&入力フォーム!C15","v":""},null,null,null,null,null,null,null,"連絡先",{"$f":"入力フォーム!J16","v":0}]
["材料購入会社名：",{"$f":"入力フォーム!B41","v":0}]
["所　　在　　地：",{"$f":"入力フォーム!B42&入力フォーム!C42","v":""},null,null,null,null,null,null,null,"担当者",{"$f":"入力フォーム!B43","v":0}]
[]
["保  証  開  始  日：",{"$f":"入力フォーム!B8","v":0},{"$f":"入力フォーム!C8","v":0},"年",{"$f":"入力フォーム!E8","v":0},"月",{"$f":"入力フォーム!G8","v":0},"日"]
["保  証  書  宛  先：",{"$f":"入力フォーム!B3","v":0}]
[null,{"$f":"入力フォーム!B4","v":0}]
["発　行　部　数：",{"$f":"入力フォーム!K33","v":0},"部"]
[]
["発送先　会社名：",{"$f":"入力フォーム!B45","v":0}]
["住　所：",{"$f":"入力フォーム!B46&入力フォーム!C46","v":""},null,null,null,null,null,null,null,"連絡先",{"$f":"入力フォーム!J47","v":0}]
["担当者：",{"$f":"入力フォーム!B47","v":0},null,null,null,"到着希望日",null,null,{"$f":"入力フォーム!G33","v":"00:00:00"}]
["―　念　書　―"]
["（防水工事業者の記名・会社印及び代表者印の捺印を以下にお願いします。）"]
[]
[]
[]
[]
[]
[]
[]
[]
[]
["　　本工事に於いて弊社都合により、貴社定型外の書式による防水工事保証書に捺印をお願いします。\n　　弊社は日新工業株式会社の定型保証書に於ける免責事項（№2101001-2）を十分に理解しており、\n　　標準防水仕様及び売買契約に基づき納入した製品の品質において保証をお願いするのみで、施工\n　　品質や、その他条件に於ける契約不適合について貴社に一切ご迷惑をかけぬことを誓約します。"]
[]
["保証依頼内容"]
["施工部位","工法・仕様名",null,null,null,null,null,null,null,"面積・数量",null,"保証年数"]
[{"$f":"入力フォーム!A19","v":0},{"$f":"入力フォーム!B19","v":0},null,null,null,null,null,null,null,{"$f":"入力フォーム!H19","v":0},null,{"$f":"入力フォーム!K19","v":0}]
[{"$f":"入力フォーム!A20","v":0},{"$f":"入力フォーム!B20","v":0},null,null,null,null,null,null,null,{"$f":"入力フォーム!H20","v":0},null,{"$f":"入力フォーム!K20","v":0}]
[{"$f":"入力フォーム!A21","v":0},{"$f":"入力フォーム!B21","v":0},null,null,null,null,null,null,null,{"$f":"入力フォーム!H21","v":0},null,{"$f":"入力フォーム!K21","v":0}]
[{"$f":"入力フォーム!A22","v":0},{"$f":"入力フォーム!B22","v":0},null,null,null,null,null,null,null,{"$f":"入力フォーム!H22","v":0},null,{"$f":"入力フォーム!K22","v":0}]
[{"$f":"入力フォーム!A23","v":0},{"$f":"入力フォーム!B23","v":0},null,null,null,null,null,null,null,{"$f":"入力フォーム!H23","v":0},null,{"$f":"入力フォーム!K23","v":0}]
[{"$f":"入力フォーム!A24","v":0},{"$f":"入力フォーム!B24","v":0},null,null,null,null,null,null,null,{"$f":"入力フォーム!H24","v":0},null,{"$f":"入力フォーム!K24","v":0}]
[{"$f":"入力フォーム!A25","v":0},{"$f":"入力フォーム!B25","v":0},null,null,null,null,null,null,null,{"$f":"入力フォーム!H25","v":0},null,{"$f":"入力フォーム!K25","v":0}]
[{"$f":"入力フォーム!A26","v":0},{"$f":"入力フォーム!B26","v":0},null,null,null,null,null,null,null,{"$f":"入力フォーム!H26","v":0},null,{"$f":"入力フォーム!K26","v":0}]
[{"$f":"入力フォーム!A27","v":0},{"$f":"入力フォーム!B27","v":0},null,null,null,null,null,null,null,{"$f":"入力フォーム!H27","v":0},null,{"$f":"入力フォーム!K27","v":0}]
[{"$f":"入力フォーム!A28","v":0},{"$f":"入力フォーム!B28","v":0},null,null,null,null,null,null,null,{"$f":"入力フォーム!H28","v":0},null,{"$f":"入力フォーム!K28","v":0}]
[]
["業者情報 ②会社名：",{"$f":"入力フォーム!B34","v":0}]
["住　所：",{"$f":"入力フォーム!B35&入力フォーム!C35","v":""}]
["担当者：",{"$f":"入力フォーム!B36","v":0},null,null,null,"連絡先",null,{"$f":"入力フォーム!J36","v":0}]
["　③会社名：",{"$f":"入力フォーム!B37","v":0}]
["住　所：",{"$f":"入力フォーム!B38&入力フォーム!C38","v":""}]
["担当者：",{"$f":"入力フォーム!B39","v":0},null,null,null,"連絡先",null,{"$f":"入力フォーム!J39","v":0}]

{"sheet":"定型外保証書捺印依頼書（なし）","index":11,"n_rows":59,"n_cols":12,"rows_kept":59,"cut":false,"hidden":false,"merged":[[8,0,8,12],[18,0,18,12],[59,0,81,12],[58,1,58,4],[58,5,58,6],[58,7,58,12],[51,11,51,12],[52,0,52,12],[53,1,53,12],[51,1,51,10],[55,1,55,4],[55,5,55,6],[55,7,55,12],[56,1,56,12],[50,11,50,12],[49,1,49,10],[50,1,50,10],[47,11,47,12],[48,11,48,12],[47,1,47,10],[48,1,48,10],[49,11,49,12],[45,11,45,12],[46,11,46,12],[45,1,45,10],[46,1,46,10],[43,11,43,12],[44,11,44,12],[43,1,43,10],[44,1,44,10],[41,11,41,12],[42,11,42,12],[41,1,41,10],[42,1,42,10],[38,0,38,12],[39,0,39,12],[40,0,40,12],[33,0,33,12],[34,0,34,12],[35,0,35,12],[36,0,36,12],[27,0,27,12],[28,0,28,12],[29,0,29,12],[30,0,30,12],[31,0,31,12],[20,1,20,12],[21,1,21,12],[23,0,23,12],[24,1,24,12],[22,2,22,12],[9,1,9,12],[11,1,11,12],[12,1,12,12],[13,10,13,12],[14,1,14,12],[10,1,10,12],[13,1,13,8],[5,0,5,5],[5,6,5,12],[6,0,6,5],[6,6,6,12],[7,0,7,5],[7,6,7,12],[4,0,4,5],[0,0,0,12],[1,0,1,12],[2,0,2,12],[3,0,3,5],[3,6,3,12],[4,6,4,12],[15,1,15,8],[17,1,17,8],[25,1,25,8],[54,1,54,12],[57,1,57,12],[19,7,19,12],[15,10,15,12],[16,1,16,12],[17,10,17,12],[37,0,37,12],[25,10,25,12],[26,1,26,4],[26,5,26,7],[26,8,26,12],[32,0,32,12],[20,0,21,0]]}
[{"$f":"入力フォーム!J48","v":0}]
["防水工事保証書（定型外）捺印依頼書"]
["日新工業株式会社　御中"]
["依頼者：",null,null,null,null,null,{"$f":"IF(入力フォーム!B30=\"\",入力フォーム!B14,入力フォーム!B30)","v":0}]
["住　所：",null,null,null,null,null,{"$f":"IF(入力フォーム!B31=\"\",入力フォーム!B15&入力フォーム!C15,入力フォーム!B31&入力フォーム!C31)","v":""}]
["担当者：",null,null,null,null,null,{"$f":"IF(入力フォーム!B32=\"\",入力フォーム!B16,入力フォーム!B32)","v":0}]
["連絡先：",null,null,null,null,null,{"$f":"IF(入力フォーム!J32=\"\",入力フォーム!J16,入力フォーム!J32)","v":0}]
["依頼日：",null,null,null,null,null,{"$f":"入力フォーム!B33","v":"2023-03-06"}]
[]
["工　事　名　称：",{"$f":"入力フォーム!B5","v":0}]
["現　場　住　所：",{"$f":"入力フォーム!B6&入力フォーム!C6","v":""}]
["設  計  事  務  所：",{"$f":"入力フォーム!B7","v":0}]
["工事請負業者名：",{"$f":"入力フォーム!B10","v":0}]
["所　　在　　地：",{"$f":"入力フォーム!B11&入力フォーム!C11","v":""},null,null,null,null,null,null,null,"連絡先",{"$f":"入力フォーム!J12","v":0}]
["防水施工業者名：",{"$f":"入力フォーム!B14","v":0}]
["所　　在　　地：",{"$f":"入力フォーム!B15&入力フォーム!C15","v":""},null,null,null,null,null,null,null,"連絡先",{"$f":"入力フォーム!J16","v":0}]
["材料購入会社名：",{"$f":"入力フォーム!B41","v":0}]
["所　　在　　地：",{"$f":"入力フォーム!B42&入力フォーム!C42","v":""},null,null,null,null,null,null,null,"担当者",{"$f":"入力フォーム!B43","v":0}]
[]
["保  証  開  始  日：",{"$f":"入力フォーム!B8","v":0},{"$f":"入力フォーム!C8","v":0},"年",{"$f":"入力フォーム!E8","v":0},"月",{"$f":"入力フォーム!G8","v":0},"日"]
["保  証  書  宛  先：",{"$f":"入力フォーム!B3","v":0}]
[null,{"$f":"入力フォーム!B4","v":0}]
["発　行　部　数：",{"$f":"入力フォーム!K33","v":0},"部"]
[]
["発送先　会社名：",{"$f":"入力フォーム!B45","v":0}]
["住　所：",{"$f":"入力フォーム!B46&入力フォーム!C46","v":""},null,null,null,null,null,null,null,"連絡先",{"$f":"入力フォーム!J47","v":0}]
["担当者：",{"$f":"入力フォーム!B47","v":0},null,null,null,"到着希望日",null,null,{"$f":"入力フォーム!G33","v":"00:00:00"}]
["―　念　書　―"]
["（防水工事業者の記名・会社印及び代表者印の捺印を以下にお願いします。）"]
[]
[]
[]
[]
[]
[]
[]
[]
[]
["　　本工事に於いて弊社都合により、貴社定型外の書式による防水工事保証書に捺印をお願いします。\n　　弊社は日新工業株式会社の定型保証書に於ける免責事項（№2101001-2）を十分に理解しており、\n　　標準防水仕様及び売買契約に基づき納入した製品の品質において保証をお願いするのみで、施工\n　　品質や、その他条件に於ける契約不適合について貴社に一切ご迷惑をかけぬことを誓約します。"]
[]
["保証依頼内容"]
["施工部位","工法・仕様名",null,null,null,null,null,null,null,null,null,"保証年数"]
[{"$f":"入力フォーム!A19","v":0},{"$f":"入力フォーム!B19","v":0},null,null,null,null,null,null,null,null,null,{"$f":"入力フォーム!K19","v":0}]
[{"$f":"入力フォーム!A20","v":0},{"$f":"入力フォーム!B20","v":0},null,null,null,null,null,null,null,null,null,{"$f":"入力フォーム!K20","v":0}]
[{"$f":"入力フォーム!A21","v":0},{"$f":"入力フォーム!B21","v":0},null,null,null,null,null,null,null,null,null,{"$f":"入力フォーム!K21","v":0}]
[{"$f":"入力フォーム!A22","v":0},{"$f":"入力フォーム!B22","v":0},null,null,null,null,null,null,null,null,null,{"$f":"入力フォーム!K22","v":0}]
[{"$f":"入力フォーム!A23","v":0},{"$f":"入力フォーム!B23","v":0},null,null,null,null,null,null,null,null,null,{"$f":"入力フォーム!K23","v":0}]
[{"$f":"入力フォーム!A24","v":0},{"$f":"入力フォーム!B24","v":0},null,null,null,null,null,null,null,null,null,{"$f":"入力フォーム!K24","v":0}]
[{"$f":"入力フォーム!A25","v":0},{"$f":"入力フォーム!B25","v":0},null,null,null,null,null,null,null,null,null,{"$f":"入力フォーム!K25","v":0}]
[{"$f":"入力フォーム!A26","v":0},{"$f":"入力フォーム!B26","v":0},null,null,null,null,null,null,null,null,null,{"$f":"入力フォーム!K26","v":0}]
[{"$f":"入力フォーム!A27","v":0},{"$f":"入力フォーム!B27","v":0},null,null,null,null,null,null,null,null,null,{"$f":"入力フォーム!K27","v":0}]
[{"$f":"入力フォーム!A28","v":0},{"$f":"入力フォーム!B28","v":0},null,null,null,null,null,null,null,null,null,{"$f":"入力フォーム!K28","v":0}]
[]
["業者情報 ②会社名：",{"$f":"入力フォーム!B34","v":0}]
["住　所：",{"$f":"入力フォーム!B35&入力フォーム!C35","v":""}]
["担当者：",{"$f":"入力フォーム!B36","v":0},null,null,null,"連絡先",null,{"$f":"入力フォーム!J36","v":0}]
["　③会社名：",{"$f":"入力フォーム!B37","v":0}]
["住　所：",{"$f":"入力フォーム!B38&入力フォーム!C38","v":""}]
["担当者：",{"$f":"入力フォーム!B39","v":0},null,null,null,"連絡先",null,{"$f":"入力フォーム!J39","v":0}]

{"sheet":"定型外保証書捺印依頼書（分割）","index":12,"n_rows":59,"n_cols":12,"rows_kept":59,"cut":false,"hidden":false,"merged":[[8,0,8,12],[18,0,18,12],[59,0,81,12],[39,0,39,12],[40,0,40,12],[58,1,58,4],[58,5,58,6],[58,7,58,12],[42,7,42,8],[43,7,43,8],[44,7,44,8],[45,7,45,8],[46,7,46,8],[47,7,47,8],[48,7,48,8],[55,1,55,4],[55,5,55,6],[55,7,55,12],[56,1,56,12],[50,11,50,12],[51,11,51,12],[52,0,52,12],[53,1,53,12],[50,7,50,8],[51,7,51,8],[50,1,50,5],[51,1,51,5],[47,11,47,12],[48,11,48,12],[49,11,49,12],[49,7,49,8],[47,1,47,5],[48,1,48,5],[49,1,49,5],[44,11,44,12],[45,11,45,12],[46,11,46,12],[44,1,44,5],[45,1,45,5],[46,1,46,5],[41,11,41,12],[42,11,42,12],[43,11,43,12],[41,1,41,5],[42,1,42,5],[43,1,43,5],[41,6,41,10],[33,0,33,12],[34,0,34,12],[35,0,35,12],[36,0,36,12],[37,0,37,12],[28,0,28,12],[29,0,29,12],[30,0,30,12],[31,0,31,12],[32,0,32,12],[20,1,20,12],[21,1,21,12],[23,0,23,12],[24,1,24,12],[22,2,22,12],[9,1,9,12],[11,1,11,12],[12,1,12,12],[13,10,13,12],[14,1,14,12],[10,1,10,12],[13,1,13,8],[5,0,5,5],[5,6,5,12],[6,0,6,5],[6,6,6,12],[7,0,7,5],[7,6,7,12],[4,0,4,5],[0,0,0,12],[1,0,1,12],[2,0,2,12],[3,0,3,5],[3,6,3,12],[4,6,4,12],[15,1,15,8],[17,1,17,8],[25,1,25,8],[54,1,54,12],[57,1,57,12],[19,7,19,12],[15,10,15,12],[16,1,16,12],[17,10,17,12],[25,10,25,12],[26,1,26,4],[26,5,26,7],[26,8,26,12],[38,0,38,12],[27,0,27,12],[20,0,21,0]]}
[{"$f":"入力フォーム!J48","v":0}]
["防水工事保証書（定型外）捺印依頼書"]
["日新工業株式会社　御中"]
["依頼者：",null,null,null,null,null,{"$f":"IF(入力フォーム!B30=\"\",入力フォーム!B14,入力フォーム!B30)","v":0}]
["住　所：",null,null,null,null,null,{"$f":"IF(入力フォーム!B31=\"\",入力フォーム!B15&入力フォーム!C15,入力フォーム!B31&入力フォーム!C31)","v":""}]
["担当者：",null,null,null,null,null,{"$f":"IF(入力フォーム!B32=\"\",入力フォーム!B16,入力フォーム!B32)","v":0}]
["連絡先：",null,null,null,null,null,{"$f":"IF(入力フォーム!J32=\"\",入力フォーム!J16,入力フォーム!J32)","v":0}]
["依頼日：",null,null,null,null,null,{"$f":"入力フォーム!B33","v":"2023-03-06"}]
[]
["工　事　名　称：",{"$f":"入力フォーム!B5","v":0}]
["現　場　住　所：",{"$f":"入力フォーム!B6&入力フォーム!C6","v":""}]
["設  計  事  務  所：",{"$f":"入力フォーム!B7","v":0}]
["工事請負業者名：",{"$f":"入力フォーム!B10","v":0}]
["所　　在　　地：",{"$f":"入力フォーム!B11&入力フォーム!C11","v":""},null,null,null,null,null,null,null,"連絡先",{"$f":"入力フォーム!J12","v":0}]
["防水施工業者名：",{"$f":"入力フォーム!B14","v":0}]
["所　　在　　地：",{"$f":"入力フォーム!B15&入力フォーム!C15","v":""},null,null,null,null,null,null,null,"連絡先",{"$f":"入力フォーム!J16","v":0}]
["材料購入会社名：",{"$f":"入力フォーム!B41","v":0}]
["所　　在　　地：",{"$f":"入力フォーム!B42&入力フォーム!C42","v":""},null,null,null,null,null,null,null,"担当者",{"$f":"入力フォーム!B43","v":0}]
[]
["保  証  開  始  日：",{"$f":"入力フォーム!B8","v":0},{"$f":"入力フォーム!C8","v":0},"年",{"$f":"入力フォーム!E8","v":0},"月",{"$f":"入力フォーム!G8","v":0},"日"]
["保  証  書  宛  先：",{"$f":"入力フォーム!B3","v":0}]
[null,{"$f":"入力フォーム!B4","v":0}]
["発　行　部　数：",{"$f":"入力フォーム!K33","v":0},"部"]
[]
["発送先　会社名：",{"$f":"入力フォーム!B45","v":0}]
["住　所：",{"$f":"入力フォーム!B46&入力フォーム!C46","v":""},null,null,null,null,null,null,null,"連絡先",{"$f":"入力フォーム!J47","v":0}]
["担当者：",{"$f":"入力フォーム!B47","v":0},null,null,null,"到着希望日",null,null,{"$f":"入力フォーム!G33","v":"00:00:00"}]
["―　念　書　―"]
["（防水工事業者の記名・会社印及び代表者印の捺印を以下にお願いします。）"]
[]
[]
[]
[]
[]
[]
[]
[]
[]
["　　本工事に於いて弊社都合により、貴社定型外の書式による防水工事保証書に捺印をお願いします。\n　　弊社は日新工業株式会社の定型保証書に於ける免責事項（№2101001-2）を十分に理解しており、\n　　標準防水仕様及び売買契約に基づき納入した製品の品質において保証をお願いするのみで、施工\n　　品質や、その他条件に於ける契約不適合について貴社に一切ご迷惑をかけぬことを誓約します。"]
[]
["保証依頼内容"]
["施工部位","工法・仕様名",null,null,null,null,"面積・数量",null,null,null,null,"保証年数"]
[{"$f":"入力フォーム!A19","v":0},{"$f":"入力フォーム!B19","v":0},null,null,null,null,{"$f":"入力フォーム!G19","v":0},{"$f":"入力フォーム!H19","v":0},null,{"$f":"入力フォーム!I19","v":0},{"$f":"入力フォーム!J19","v":0},{"$f":"入力フォーム!K19","v":0}]
[{"$f":"入力フォーム!A20","v":0},{"$f":"入力フォーム!B20","v":0},null,null,null,null,{"$f":"入力フォーム!G20","v":0},{"$f":"入力フォーム!H20","v":0},null,{"$f":"入力フォーム!I20","v":0},{"$f":"入力フォーム!J20","v":0},{"$f":"入力フォーム!K20","v":0}]
[{"$f":"入力フォーム!A21","v":0},{"$f":"入力フォーム!B21","v":0},null,null,null,null,{"$f":"入力フォーム!G21","v":0},{"$f":"入力フォーム!H21","v":0},null,{"$f":"入力フォーム!I21","v":0},{"$f":"入力フォーム!J21","v":0},{"$f":"入力フォーム!K21","v":0}]
[{"$f":"入力フォーム!A22","v":0},{"$f":"入力フォーム!B22","v":0},null,null,null,null,{"$f":"入力フォーム!G22","v":0},{"$f":"入力フォーム!H22","v":0},null,{"$f":"入力フォーム!I22","v":0},{"$f":"入力フォーム!J22","v":0},{"$f":"入力フォーム!K22","v":0}]
[{"$f":"入力フォーム!A23","v":0},{"$f":"入力フォーム!B23","v":0},null,null,null,null,{"$f":"入力フォーム!G23","v":0},{"$f":"入力フォーム!H23","v":0},null,{"$f":"入力フォーム!I23","v":0},{"$f":"入力フォーム!J23","v":0},{"$f":"入力フォーム!K23","v":0}]
[{"$f":"入力フォーム!A24","v":0},{"$f":"入力フォーム!B24","v":0},null,null,null,null,{"$f":"入力フォーム!G24","v":0},{"$f":"入力フォーム!H24","v":0},null,{"$f":"入力フォーム!I24","v":0},{"$f":"入力フォーム!J24","v":0},{"$f":"入力フォーム!K24","v":0}]
[{"$f":"入力フォーム!A25","v":0},{"$f":"入力フォーム!B25","v":0},null,null,null,null,{"$f":"入力フォーム!G25","v":0},{"$f":"入力フォーム!H25","v":0},null,{"$f":"入力フォーム!I25","v":0},{"$f":"入力フォーム!J25","v":0},{"$f":"入力フォーム!K25","v":0}]
[{"$f":"入力フォーム!A26","v":0},{"$f":"入力フォーム!B26","v":0},null,null,null,null,{"$f":"入力フォーム!G26","v":0},{"$f":"入力フォーム!H26","v":0},null,{"$f":"入力フォーム!I26","v":0},{"$f":"入力フォーム!J26","v":0},{"$f":"入力フォーム!K26","v":0}]
[{"$f":"入力フォーム!A27","v":0},{"$f":"入力フォーム!B27","v":0},null,null,null,null,{"$f":"入力フォーム!G27","v":0},{"$f":"入力フォーム!H27","v":0},null,{"$f":"入力フォーム!I27","v":0},{"$f":"入力フォーム!J27","v":0},{"$f":"入力フォーム!K27","v":0}]
[{"$f":"入力フォーム!A28","v":0},{"$f":"入力フォーム!B28","v":0},null,null,null,null,{"$f":"入力フォーム!G28","v":0},{"$f":"入力フォーム!H28","v":0},null,{"$f":"入力フォーム!I28","v":0},{"$f":"入力フォーム!J28","v":0},{"$f":"入力フォーム!K28","v":0}]
[]
["業者情報 ②会社名：",{"$f":"入力フォーム!B34","v":0}]
["住　所：",{"$f":"入力フォーム!B35&入力フォーム!C35","v":""}]
["担当者：",{"$f":"入力フォーム!B36","v":0},null,null,null,"連絡先",null,{"$f":"入力フォーム!J36","v":0}]
["　③会社名：",{"$f":"入力フォーム!B37","v":0}]
["住　所：",{"$f":"入力フォーム!B38&入力フォーム!C38","v":""}]
["担当者：",{"$f":"入力フォーム!B39","v":0},null,null,null,"連絡先",null,{"$f":"入力フォーム!J39","v":0}]